BEGIN:VCALENDAR
VERSION:2.0
PRODID:-//八王子 由木マルシェ - ECPv6.15.20//NONSGML v1.0//EN
CALSCALE:GREGORIAN
METHOD:PUBLISH
X-ORIGINAL-URL:https://yugi.hachiojimarche.tokyo
X-WR-CALDESC:八王子 由木マルシェ のイベント
REFRESH-INTERVAL;VALUE=DURATION:PT1H
X-Robots-Tag:noindex
X-PUBLISHED-TTL:PT1H
BEGIN:VTIMEZONE
TZID:Asia/Tokyo
BEGIN:STANDARD
TZOFFSETFROM:+0900
TZOFFSETTO:+0900
TZNAME:JST
DTSTART:20230101T000000
END:STANDARD
END:VTIMEZONE
BEGIN:VEVENT
DTSTART;TZID=Asia/Tokyo:20240427T150000
DTEND;TZID=Asia/Tokyo:20240427T170000
DTSTAMP:20260422T234549
CREATED:20240331T235006Z
LAST-MODIFIED:20250429T004149Z
UID:38847-1714230000-1714237200@yugi.hachiojimarche.tokyo
SUMMARY:トレインズファミリー感謝祭＆プレミアムイベント｜八王子ビートレインズ（終了）
DESCRIPTION:東京八王子ビートレインズのプレミアムイベント情報 \nファンクラブ限定企画「トレインズファミリー感謝祭」 \n2023-24トレインズファミリー感謝祭 \n\n\n\n開催日\n2024年4月27日\n\n\n時　間\n15:00-17:00\n\n\n会　場\nエスフォルタアリーナ八王子\n\n\n\n※会場内に駐車場はありません。公共交通機関をご利用ください。 \n  \n詳しくはこちら\n\n  \nイベント情報トップに戻る
URL:https://yugi.hachiojimarche.tokyo/event/%e3%83%88%e3%83%ac%e3%82%a4%e3%83%b3%e3%82%ba%e3%83%95%e3%82%a1%e3%83%9f%e3%83%aa%e3%83%bc%e6%84%9f%e8%ac%9d%e7%a5%ad%ef%bc%86%e3%83%97%e3%83%ac%e3%83%9f%e3%82%a2%e3%83%a0%e3%82%a4%e3%83%99%e3%83%b3/
LOCATION:エスフォルタアリーナ八王子\, 狭間町1453-1\, 八王子市\, 東京都\, 1930941\, 日本
CATEGORIES:スポーツ・アウトドア (Sports & Outdoor)
ATTACH;FMTTYPE=image/webp:https://yugi.hachiojimarche.tokyo/wp-content/uploads/2024/04/event_trains320.webp
END:VEVENT
BEGIN:VEVENT
DTSTART;TZID=Asia/Tokyo:20240421T110000
DTEND;TZID=Asia/Tokyo:20240421T160000
DTSTAMP:20260422T234549
CREATED:20240410T072332Z
LAST-MODIFIED:20250429T004107Z
UID:38969-1713697200-1713715200@yugi.hachiojimarche.tokyo
SUMMARY:春のJA植木市｜富士森公園（終了）
DESCRIPTION:市内生産者による植木・花・野菜苗などの販売のほか、花苗の無料配布が行われるイベント。 \n無料配布は※両日とも2回100名。時間についてはJA八王子のホームページなどで確認してください。 \n\n\n\n開催日\n2024年4月20日(土)〜4月21日(日)\n\n\n時　間\n9:00-16:00\n\n\n会　場\n富士森公園\n\n\n\n※雨天決行 \nPDFチラシはこちら ＞ \n問い合わせ　JA八王子または八王子市農林課 \n  \n  \n詳しくはこちら\n\n  \nイベント情報トップに戻る
URL:https://yugi.hachiojimarche.tokyo/event/%e6%98%a5%e3%81%aeja%e6%a4%8d%e6%9c%a8%e5%b8%82%ef%bd%9c%e5%af%8c%e5%a3%ab%e6%a3%ae%e5%85%ac%e5%9c%92-2/
LOCATION:富士森公園\, 台町2-2\, 八王子市\, 東京都\, 193-0931\, 日本
CATEGORIES:スポーツ・アウトドア (Sports & Outdoor)
ATTACH;FMTTYPE=image/webp:https://yugi.hachiojimarche.tokyo/wp-content/uploads/2024/03/events320-1.webp
END:VEVENT
BEGIN:VEVENT
DTSTART;TZID=Asia/Tokyo:20240420T110000
DTEND;TZID=Asia/Tokyo:20240420T160000
DTSTAMP:20260422T234549
CREATED:20240410T072044Z
LAST-MODIFIED:20250429T004049Z
UID:38967-1713610800-1713628800@yugi.hachiojimarche.tokyo
SUMMARY:春のJA植木市｜富士森公園（終了）
DESCRIPTION:市内生産者による植木・花・野菜苗などの販売のほか、花苗の無料配布が行われるイベント。 \n無料配布は※両日とも2回100名。時間についてはJA八王子のホームページなどで確認してください。 \n\n\n\n開催日\n2024年4月20日(土)〜4月21日(日)\n\n\n時　間\n9:00-16:00\n\n\n会　場\n富士森公園\n\n\n\n※雨天決行 \nPDFチラシはこちら ＞ \n問い合わせ　JA八王子または八王子市農林課 \n  \n  \n詳しくはこちら\n\n  \nイベント情報トップに戻る
URL:https://yugi.hachiojimarche.tokyo/event/%e6%98%a5%e3%81%aeja%e6%a4%8d%e6%9c%a8%e5%b8%82%ef%bd%9c%e5%af%8c%e5%a3%ab%e6%a3%ae%e5%85%ac%e5%9c%92/
LOCATION:富士森公園\, 台町2-2\, 八王子市\, 東京都\, 193-0931\, 日本
CATEGORIES:スポーツ・アウトドア (Sports & Outdoor)
ATTACH;FMTTYPE=image/webp:https://yugi.hachiojimarche.tokyo/wp-content/uploads/2024/03/events320-1.webp
END:VEVENT
BEGIN:VEVENT
DTSTART;VALUE=DATE:20240413
DTEND;VALUE=DATE:20240520
DTSTAMP:20260422T234549
CREATED:20240410T073641Z
LAST-MODIFIED:20250429T004009Z
UID:38971-1712966400-1716163199@yugi.hachiojimarche.tokyo
SUMMARY:高尾山若葉まつり2024 期間4.13〜5.19｜高尾山のイベント（終了）
DESCRIPTION:高尾山若葉まつりは、芸妓衆による踊りの披露や、市内の学生によるステージパフォーマンスなど、週末を中心にさまざまな催しを行う高尾山若葉まつり実行委員会が主催するイベント。 \n\n\n\n開催日\n2024年4月13日(土)〜5月19日(日)\n\n\n時　間\n–\n\n\n会　場\nケーブルカー清滝駅前、高尾山薬王院など\n\n\n\n※駐車場が少ない為、お越しの節には、電車・バスの利用をお勧めします。 \n問い合わせ　高尾山若葉まつり実行委員会、または八王子観光コンベンション協会 \n  \n  \n詳しくはこちら\n\n  \nイベント情報トップに戻る
URL:https://yugi.hachiojimarche.tokyo/event/%e9%ab%98%e5%b0%be%e5%b1%b1%e8%8b%a5%e8%91%89%e3%81%be%e3%81%a4%e3%82%8a2024-%e6%9c%9f%e9%96%934-13%e3%80%9c5-19%ef%bd%9c%e9%ab%98%e5%b0%be%e5%b1%b1%e3%81%ae%e3%82%a4%e3%83%99%e3%83%b3%e3%83%88/
LOCATION:高尾山\, 高尾町２２０５\, 八王子市\, 東京都\, 1930844\, 日本
CATEGORIES:スポーツ・アウトドア (Sports & Outdoor)
ATTACH;FMTTYPE=image/webp:https://yugi.hachiojimarche.tokyo/wp-content/uploads/2024/03/events320-1.webp
END:VEVENT
END:VCALENDAR