BEGIN:VCALENDAR
VERSION:2.0
PRODID:-//八王子 由木マルシェ - ECPv6.15.20//NONSGML v1.0//EN
CALSCALE:GREGORIAN
METHOD:PUBLISH
X-ORIGINAL-URL:https://yugi.hachiojimarche.tokyo
X-WR-CALDESC:八王子 由木マルシェ のイベント
REFRESH-INTERVAL;VALUE=DURATION:PT1H
X-Robots-Tag:noindex
X-PUBLISHED-TTL:PT1H
BEGIN:VTIMEZONE
TZID:Asia/Tokyo
BEGIN:STANDARD
TZOFFSETFROM:+0900
TZOFFSETTO:+0900
TZNAME:JST
DTSTART:20230101T000000
END:STANDARD
END:VTIMEZONE
BEGIN:VEVENT
DTSTART;TZID=Asia/Tokyo:20250825T100000
DTEND;TZID=Asia/Tokyo:20250825T170000
DTSTAMP:20260422T183549
CREATED:20250730T023012Z
LAST-MODIFIED:20250730T023614Z
UID:45002-1756116000-1756141200@yugi.hachiojimarche.tokyo
SUMMARY:第３回 都立大 子どもまつり開催｜東京都立大学南大沢キャンパス
DESCRIPTION:南大沢駅前にある東京都立大学で開催される子ども向けのイベント「都立大子どもまつり」が今年も開催します。 \n「都立大子どもまつり」は、東京都立大学の学生ボランティアサークル、都立大子どもまつり委員会が企画・主催し、未就学児と小学生向けに特別にプログラムされています。今年で３回目の開催になります。 \n今年もバルーンアート、人気の光る弾むスライムづくり、人形劇、遊んで学ぶ環境問題などのプログラムが予定されています。家族連れでの参加がおすすめですので、ぜひこの機会にお楽しみください！ \n\n\n\n開催日\n2025年8月25日(月)\n\n\n時間\n10:00～17:00\n\n\n会場\n東京都立大学 南大沢キャンパス７号館\n\n\n\n主催：都立大子どもまつり委員会、都立大ボランティアサークル \n後援：八王子市教育委員会・多摩市教育委員会 \n※当日は混雑が予想されます。公共交通機関をご利用ください。 \n \n\n\n\n\n\n\n\n詳しくはこちら\n \nイベント情報トップに戻る\n \n 
URL:https://yugi.hachiojimarche.tokyo/event/%e7%ac%ac%ef%bc%93%e5%9b%9e-%e9%83%bd%e7%ab%8b%e5%a4%a7-%e5%ad%90%e3%81%a9%e3%82%82%e3%81%be%e3%81%a4%e3%82%8a2025%e5%b9%b48%e6%9c%8825%e6%97%a5%ef%bc%88%e6%9c%88%ef%bc%89%e9%96%8b%e5%82%ac%ef%bd%9c/
LOCATION:東京都立大学 南大沢キャンパス\, 南大沢1-1\, 八王子市\, 東京都\, 日本
CATEGORIES:教育・学習 (Education & Learning)
ATTACH;FMTTYPE=image/webp:https://yugi.hachiojimarche.tokyo/wp-content/uploads/2024/07/event_minamiosawa.webp
ORGANIZER;CN="%E9%83%BD%E7%AB%8B%E5%A4%A7%E5%AD%90%E3%81%A9%E3%82%82%E3%81%BE%E3%81%A4%E3%82%8A%E5%A7%94%E5%93%A1%E4%BC%9A":MAILTO:tmukodomofes@gmail.com
END:VEVENT
BEGIN:VEVENT
DTSTART;TZID=Asia/Tokyo:20250312T100000
DTEND;TZID=Asia/Tokyo:20250312T161500
DTSTAMP:20260422T183549
CREATED:20250224T154200Z
LAST-MODIFIED:20250429T004926Z
UID:43904-1741773600-1741796100@yugi.hachiojimarche.tokyo
SUMMARY:【八王子】3/12女性応援ジョブフェアin八王子～家庭と両立できる企業と出会おう～ 東京しごとセンター多摩（終了）
DESCRIPTION:地域密着型イベント「女性応援ジョブフェア」が八王子市内で開催されます。このイベントは、育児や介護といった家庭の事情を抱えながら、就職・転職を目指す女性を対象に、家庭と両立できる企業が参加、就職支援に関するセミナー後に面接会を行います。 \n\n\n\n就職面接会の他に、就職相談コーナーやカラー診断コーナーも設置予定です。参加には東京しごとセンター多摩の利用登録が必要です(当日登録可)。 \n\n\n\n\n\n\n    \n    \n     \n\n\n    \n        \n    \n\n\n\n\n\n開催日・時間令和7年（2025年）3月12日（水）第1部：10:00～12:45（受付 9:30～10:00）第2部：13:30～16:15（受付 13:00～13:30）※2部入れ替え制、各部先着予約制（各部約30名程度） \n会場京王プラザホテル八王子 4階 錦・宴（東京都八王子市旭町14-1、JR中央線八王子駅北口すぐ） \n\n\n\n主催公益財団法人 東京しごと財団　東京しごとセンター多摩共催男女共同参画課 \n\n\n\n＼ 詳しい情報は八王子市HP ／ \n\n\n\n\n男女共同参画 講座･イベント情報 ＞
URL:https://yugi.hachiojimarche.tokyo/event/%e3%80%90%e5%85%ab%e7%8e%8b%e5%ad%90%e3%80%913-12%e5%a5%b3%e6%80%a7%e5%bf%9c%e6%8f%b4%e3%82%b8%e3%83%a7%e3%83%96%e3%83%95%e3%82%a7%e3%82%a2in%e5%85%ab%e7%8e%8b%e5%ad%90%ef%bd%9e%e5%ae%b6%e5%ba%ad/
LOCATION:京王プラザホテル八王子\, 旭町１４−１\, 八王子市\, 東京都\, Japan
CATEGORIES:その他
END:VEVENT
BEGIN:VEVENT
DTSTART;TZID=Asia/Tokyo:20250301T113000
DTEND;TZID=Asia/Tokyo:20250301T123000
DTSTAMP:20260422T183549
CREATED:20250227T125800Z
LAST-MODIFIED:20250429T004919Z
UID:43972-1740828600-1740832200@yugi.hachiojimarche.tokyo
SUMMARY:3/1コニカミノルタ サイエンスドームの催し｜かんたん工作室「分光シートのにじ色スコープ」（終了）
DESCRIPTION:コニカミノルタサイエンスドームの催し「かんたん工作・分光シートのにじ色スコープ」の開催情報。 \n分光シートのにじ色スコープとは、分光シートの性質を利用して白い光を色に分ける工作で、虹色の模様を見ることができるものです。 \n対象\n４歳～中学生 \n日時\n3/1・2・8の11:30～12:30、14:10～15:10 \n定員\n各12組 \n費用\n50円 \n※1組3名まで。※小学3年生以下のお子さんは保護者同伴 \n\n\n\nコニカミノルタサイエンスドームの施設情報\nアクセス\nバ　ス：京王八王子駅またはJR八王子駅北口から西東京バス「みつい台」「創価大学循環（八日町経由）」「純心学園（左入経由）」行き約10分。バス停「サイエンスドーム」下車徒歩2分。自動車：中央自動車道八王子I.Cより八王子市街地方面へ約10分。無料駐車場（約90台）あり。 \n飲食について\nレストラン・売店等の飲食提供施設はありません（飲料の自動販売機のみ）。展示室、プラネタリウムドーム内での飲食はできません。2階講座室、流星号車内は持ち込み飲食が可能です。ただし、イベント等でご利用いただけない場合があります。ゴミはお持ち帰りください。 \n設備\n駐車場（約90台）飲料自動販売機授乳室多機能トイレ（ベビーチェア、おむつ交換台等） \n\n\n\n＼ 詳しい情報はこちら ／ \n\n\n\n\n八王子市HP ＞
URL:https://yugi.hachiojimarche.tokyo/event/3-1%e3%82%b3%e3%83%8b%e3%82%ab%e3%83%9f%e3%83%8e%e3%83%ab%e3%82%bf-%e3%82%b5%e3%82%a4%e3%82%a8%e3%83%b3%e3%82%b9%e3%83%89%e3%83%bc%e3%83%a0%e3%81%ae%e5%82%ac%e3%81%97%ef%bd%9c%e3%81%8b%e3%82%93/
LOCATION:コニカミノルタサイエンスドーム
CATEGORIES:教育・学習 (Education & Learning)
ATTACH;FMTTYPE=image/webp:https://yugi.hachiojimarche.tokyo/wp-content/uploads/2024/03/events320-1.webp
END:VEVENT
BEGIN:VEVENT
DTSTART;TZID=Asia/Tokyo:20250224T100000
DTEND;TZID=Asia/Tokyo:20250224T140000
DTSTAMP:20260422T183549
CREATED:20250203T021432Z
LAST-MODIFIED:20250429T004914Z
UID:42915-1740391200-1740405600@yugi.hachiojimarche.tokyo
SUMMARY:みんなのいばしょ展覧会｜子どもの居場所 ぽまる場 in 南大沢文化会館（終了）
DESCRIPTION:こどもの居場所「ぽまる場」が主催する南大沢の地域イベント。 \n\n\n\n南大沢のいろんな「いばしょ」が繋がって、楽しい展覧会を開催します。居場所を探している方、居場所づくりに関心のある方、子どもから大人までどなたでも、ちらっと立ち寄ってみませんか？ \n\n\n\n\n\n\n    \n    \n     \n\n\n    \n        \n    \n\n\n\n\n\n\n\n\n    \n    \n     \n\n\n    \n        \n    \n\n\n\n\n\n\n日時2025年2月24日（月祝）10:00～14:00 \n場所南大沢文化会館 \n入場料子ども　無料大人　100円 \n\n\n\n《参加団体》 \nAeru De Café / おかえり喫茶にじいろDカフェ / はちビバ由木八王子にほんごの会 南大沢寺子屋バラエティクラブ / 南大沢図書館みなもり（清水入緑地のボランティア） \n\n\n\n\n\n\n\n\n\n詳しい情報はこちら ＞
URL:https://yugi.hachiojimarche.tokyo/event/%e3%81%bf%e3%82%93%e3%81%aa%e3%81%ae%e3%81%84%e3%81%b0%e3%81%97%e3%82%87%e5%b1%95%e8%a6%a7%e4%bc%9a%ef%bd%9c%e3%81%bd%e3%81%be%e3%82%8b%e3%81%b0-in-%e5%8d%97%e5%a4%a7%e6%b2%a2%e6%96%87%e5%8c%96/
LOCATION:南大沢文化会館\, 南大沢2-27\, 八王子市\, 東京都\, 192-0364\, 日本
CATEGORIES:教育・学習 (Education & Learning)
END:VEVENT
BEGIN:VEVENT
DTSTART;TZID=Asia/Tokyo:20241127T113000
DTEND;TZID=Asia/Tokyo:20241127T121500
DTSTAMP:20260422T183549
CREATED:20241105T021049Z
LAST-MODIFIED:20250429T004640Z
UID:42181-1732707000-1732709700@yugi.hachiojimarche.tokyo
SUMMARY:南大沢給食センター見学＆給食試食体験【要予約】はちっこキッチン南大沢（終了）
DESCRIPTION:給食センター見学、中学校給食試食会は毎月開催しています\n\n\n\n八王子市学校給食センター（はちっこキッチン南大沢）では、安全で美味しい給食を体験できる「給食試食会」を月に3～4回開催しています。「近いし行ってみようかな」「給食を食べてみたい」など、興味を持たれた方が気軽に体験できる試食会です。予約制で定員が設けられていますが、普段知る機会の少ない給食を体験し、食の魅力を実感できる貴重な機会です。 \n\n\n\n\n\n\n    \n    \n    レスポンシブ画像\n     \n\n\n    \n        \n    \n\n\n\n\n\n\n開催場所: 給食センター南大沢\n開催日: 月に3～4回、平日のみ\n参加費: 1食330円（現金支払い、予約時に必要）\n予約方法: 電話予約（042-689-4317）、1週間前までに予約必須\n時間: 11:30～12:15\n定員: 8名（定員に達した場合は参加不可）\n駐車場: 最大6台（予約時に確認）\nアクセス:\n\n南大沢駅から「南大沢団地」バス停下車、徒歩10分\n橋本駅・多摩境駅から「神奈中多摩車庫」バス停下車、徒歩1分\n\n\n注意事項: キャンセルは1週間前まで（それ以降は参加費が発生）\n\n参加希望者はアンケートにも協力をお願いします。 \n\n\n\n詳細はInstagramで随時公開中ですので、最新情報をぜひチェックしてみてください
URL:https://yugi.hachiojimarche.tokyo/event/%e5%8d%97%e5%a4%a7%e6%b2%a2%e7%b5%a6%e9%a3%9f%e3%82%bb%e3%83%b3%e3%82%bf%e3%83%bc%e8%a6%8b%e5%ad%a6%ef%bc%86%e7%b5%a6%e9%a3%9f%e8%a9%a6%e9%a3%9f%e4%bd%93%e9%a8%93%e3%80%90%e8%a6%81%e4%ba%88%e7%b4%84-2/
LOCATION:東京都
CATEGORIES:食・グルメ (Food & Gourmet)
END:VEVENT
BEGIN:VEVENT
DTSTART;TZID=Asia/Tokyo:20241121T113000
DTEND;TZID=Asia/Tokyo:20241121T121500
DTSTAMP:20260422T183549
CREATED:20241105T020938Z
LAST-MODIFIED:20250429T004610Z
UID:42176-1732188600-1732191300@yugi.hachiojimarche.tokyo
SUMMARY:南大沢給食センター見学＆給食試食体験【要予約】はちっこキッチン南大沢（終了）
DESCRIPTION:給食センター見学、中学校給食試食会は毎月開催しています\n\n\n\n八王子市学校給食センター（はちっこキッチン南大沢）では、安全で美味しい給食を体験できる「給食試食会」を月に3～4回開催しています。「近いし行ってみようかな」「給食を食べてみたい」など、興味を持たれた方が気軽に体験できる試食会です。予約制で定員が設けられていますが、普段知る機会の少ない給食を体験し、食の魅力を実感できる貴重な機会です。 \n\n\n\n\n\n\n    \n    \n    レスポンシブ画像\n     \n\n\n    \n        \n    \n\n\n\n\n\n\n開催場所: 給食センター南大沢\n開催日: 月に3～4回、平日のみ\n参加費: 1食330円（現金支払い、予約時に必要）\n予約方法: 電話予約（042-689-4317）、1週間前までに予約必須\n時間: 11:30～12:15\n定員: 8名（定員に達した場合は参加不可）\n駐車場: 最大6台（予約時に確認）\nアクセス:\n\n南大沢駅から「南大沢団地」バス停下車、徒歩10分\n橋本駅・多摩境駅から「神奈中多摩車庫」バス停下車、徒歩1分\n\n\n注意事項: キャンセルは1週間前まで（それ以降は参加費が発生）\n\n参加希望者はアンケートにも協力をお願いします。 \n\n\n\n詳細はInstagramで随時公開中ですので、最新情報をぜひチェックしてみてください
URL:https://yugi.hachiojimarche.tokyo/event/%e5%8d%97%e5%a4%a7%e6%b2%a2%e7%b5%a6%e9%a3%9f%e3%82%bb%e3%83%b3%e3%82%bf%e3%83%bc%e8%a6%8b%e5%ad%a6%ef%bc%86%e7%b5%a6%e9%a3%9f%e8%a9%a6%e9%a3%9f%e4%bd%93%e9%a8%93%e3%80%90%e8%a6%81%e4%ba%88%e7%b4%84/
LOCATION:東京都
CATEGORIES:食・グルメ (Food & Gourmet)
END:VEVENT
BEGIN:VEVENT
DTSTART;TZID=Asia/Tokyo:20241116T130000
DTEND;TZID=Asia/Tokyo:20241116T200000
DTSTAMP:20260422T183549
CREATED:20241026T122756Z
LAST-MODIFIED:20250429T004606Z
UID:42006-1731762000-1731787200@yugi.hachiojimarche.tokyo
SUMMARY:大栗川キャンドルリバー2024 | 由栗交流会（終了）
DESCRIPTION:大栗川キャンドルリバーが今年も開催します！ \n１．開催日時　　11月16日（土）※雨天順延11月17日２．開催場所　　大栗川公園、大石やかた公園、緑道　　　　　　　　所在地：〒192-0362 東京都八王子市堀之内3-2３．主な内容　　キャンドルイベント４．お願い　　　ご来場の際には、公共交通機関をご利用ください。５．主　催　　　由栗交流会 \n\n\n\n＼ 詳しい情報はこちら ／ \n\n\n\n\n大栗川キャンドルリバー2024 ＞\n\n\n\n\n\n《日 時》 \n\n\n\n\n\n \n \n \n\n\n\n\n\n\n\n\n\n〈情報提供者〉 \n \n\n \n由栗交流会 \n\n\n\n\n\n\n\n\n\n\n\n\n\n\n\n \nイベント情報トップに戻る\n \n 
URL:https://yugi.hachiojimarche.tokyo/event/%e5%a4%a7%e6%a0%97%e5%b7%9d%e3%82%ad%e3%83%a3%e3%83%b3%e3%83%89%e3%83%ab%e3%83%aa%e3%83%90%e3%83%bc2024/
LOCATION:東京都
CATEGORIES:エンターテイメント (Entertainment),その他
ATTACH;FMTTYPE=image/webp:https://yugi.hachiojimarche.tokyo/wp-content/uploads/2024/03/events320-1.webp
END:VEVENT
BEGIN:VEVENT
DTSTART;TZID=Asia/Tokyo:20241111T113000
DTEND;TZID=Asia/Tokyo:20241111T121500
DTSTAMP:20260422T183549
CREATED:20241105T020546Z
LAST-MODIFIED:20250429T004557Z
UID:42165-1731324600-1731327300@yugi.hachiojimarche.tokyo
SUMMARY:南大沢給食センター見学＆給食試食体験【要予約】はちっこキッチン南大沢（終了）
DESCRIPTION:給食センター見学、中学校給食試食会は毎月開催しています\n\n\n\n八王子市学校給食センター（はちっこキッチン南大沢）では、安全で美味しい給食を体験できる「給食試食会」を月に3～4回開催しています。「近いし行ってみようかな」「給食を食べてみたい」など、興味を持たれた方が気軽に体験できる試食会です。予約制で定員が設けられていますが、普段知る機会の少ない給食を体験し、食の魅力を実感できる貴重な機会です。 \n\n\n\n\n\n\n    \n    \n    レスポンシブ画像\n     \n\n\n    \n        \n    \n\n\n\n\n\n\n開催場所: 給食センター南大沢\n開催日: 月に3～4回、平日のみ\n参加費: 1食330円（現金支払い、予約時に必要）\n予約方法: 電話予約（042-689-4317）、1週間前までに予約必須\n時間: 11:30～12:15\n定員: 8名（定員に達した場合は参加不可）\n駐車場: 最大6台（予約時に確認）\nアクセス:\n\n南大沢駅から「南大沢団地」バス停下車、徒歩10分\n橋本駅・多摩境駅から「神奈中多摩車庫」バス停下車、徒歩1分\n\n\n注意事項: キャンセルは1週間前まで（それ以降は参加費が発生）\n\n参加希望者はアンケートにも協力をお願いします。 \n\n\n\n詳細はInstagramで随時公開中ですので、最新情報をぜひチェックしてみてください
URL:https://yugi.hachiojimarche.tokyo/event/%e5%8d%97%e5%a4%a7%e6%b2%a2%e3%83%bb%e7%b5%a6%e9%a3%9f%e3%82%bb%e3%83%b3%e3%82%bf%e3%83%bc%e8%a6%8b%e5%ad%a6%ef%bc%86%e4%b8%ad%e5%ad%a6%e6%a0%a1%e7%b5%a6%e9%a3%9f%e4%bd%93%e9%a8%93%e3%80%90%e8%a6%81/
LOCATION:東京都
CATEGORIES:食・グルメ (Food & Gourmet)
END:VEVENT
BEGIN:VEVENT
DTSTART;TZID=Asia/Tokyo:20241103T100000
DTEND;TZID=Asia/Tokyo:20241103T160000
DTSTAMP:20260422T183549
CREATED:20240923T101728Z
LAST-MODIFIED:20250429T004549Z
UID:40547-1730628000-1730649600@yugi.hachiojimarche.tokyo
SUMMARY:由木中央市民センターまつり｜由木中央住民協議会（終了）
DESCRIPTION:由木中央市民センターまつりが今年も開催します！ \n１．開催日時　　11月2日（土）、3日（日）２．開催場所　　由木中央市民センター　　　　　　　　所在地：八王子市下柚木2－10－6（由木折返場バス停下車）３．主な内容　　2日（土）ソフトバレーボール大会（事前申込）　　　　　　　　　　　　　作品展、健康・介護相談　　　　　　　　3日（日）作品展、ふれあいステージ、ふれあい広場（出店・ゲーム等）　　　　　　　　　　　　　健康・介護相談、お茶会、野菜即売会など４．お願い　　　ご来場の際には、公共交通機関をご利用ください。５．主　催　　　由木中央住民協議会６．その他　　　作品展への出展、ふれあいステージへの出演申込は終了しています。 \n\n\n\n\n《日 時》 \n\n\n\n\n\n \n \n \n\n\n\n\n\n\n\n\n\n〈情報提供者〉 \n \n\n \n由木中央住民協議会 さん \n\n\n\n\n\n\n\n\n\n\n\n\n\n\n\n \nイベント情報トップに戻る\n \n 
URL:https://yugi.hachiojimarche.tokyo/event/%e7%94%b1%e6%9c%a8%e4%b8%ad%e5%a4%ae%e5%b8%82%e6%b0%91%e3%82%bb%e3%83%b3%e3%82%bf%e3%83%bc%e3%81%be%e3%81%a4%e3%82%8a%ef%bd%9c%e7%94%b1%e6%9c%a8%e4%b8%ad%e5%a4%ae%e4%bd%8f%e6%b0%91%e5%8d%94%e8%ad%b0-2/
LOCATION:東京都
CATEGORIES:コミュニティ (Community),文化・芸術 (Culture & Arts)
ATTACH;FMTTYPE=image/webp:https://yugi.hachiojimarche.tokyo/wp-content/uploads/2024/03/events320-1.webp
END:VEVENT
BEGIN:VEVENT
DTSTART;TZID=Asia/Tokyo:20241102T100000
DTEND;TZID=Asia/Tokyo:20241102T160000
DTSTAMP:20260422T183549
CREATED:20240923T100322Z
LAST-MODIFIED:20250429T004539Z
UID:40229-1730541600-1730563200@yugi.hachiojimarche.tokyo
SUMMARY:由木中央市民センターまつり｜由木中央住民協議会（終了）
DESCRIPTION:由木中央市民センターまつりが今年も開催します！ \n１．開催日時　　11月2日（土）、3日（日）２．開催場所　　由木中央市民センター　　　　　　　　所在地：八王子市下柚木2－10－6（由木折返場バス停下車）３．主な内容　　2日（土）ソフトバレーボール大会（事前申込）　　　　　　　　　　　　　作品展、健康・介護相談　　　　　　　　3日（日）作品展、ふれあいステージ、ふれあい広場（出店・ゲーム等）　　　　　　　　　　　　　健康・介護相談、お茶会、野菜即売会など４．お願い　　　ご来場の際には、公共交通機関をご利用ください。５．主　催　　　由木中央住民協議会６．その他　　　作品展への出展、ふれあいステージへの出演申込は終了しています。 \n\n\n\n\n《日 時》 \n\n\n\n\n\n \n \n \n\n\n\n\n\n\n\n\n\n〈情報提供者〉 \n \n\n \n由木中央住民協議会 さん \n\n\n\n\n\n\n\n\n\n\n\n\n\n\n\n \nイベント情報トップに戻る\n \n 
URL:https://yugi.hachiojimarche.tokyo/event/%e7%94%b1%e6%9c%a8%e4%b8%ad%e5%a4%ae%e5%b8%82%e6%b0%91%e3%82%bb%e3%83%b3%e3%82%bf%e3%83%bc%e3%81%be%e3%81%a4%e3%82%8a%ef%bd%9c%e7%94%b1%e6%9c%a8%e4%b8%ad%e5%a4%ae%e4%bd%8f%e6%b0%91%e5%8d%94%e8%ad%b0/
LOCATION:東京都
CATEGORIES:コミュニティ (Community),文化・芸術 (Culture & Arts)
ATTACH;FMTTYPE=image/webp:https://yugi.hachiojimarche.tokyo/wp-content/uploads/2024/03/events320-1.webp
END:VEVENT
BEGIN:VEVENT
DTSTART;TZID=Asia/Tokyo:20241027T110000
DTEND;TZID=Asia/Tokyo:20241027T150000
DTSTAMP:20260422T183549
CREATED:20241027T013659Z
LAST-MODIFIED:20250429T004535Z
UID:42019-1730026800-1730041200@yugi.hachiojimarche.tokyo
SUMMARY:2024 八王子こども屋台選手権 | 南大沢駅前ペデストリアンデッキ（終了）
DESCRIPTION:八王子こども屋台選手権が今年も開催します！ \n１．開催日時　　10月27日（日）２．開催場所　　京王相模原線 南大沢駅前ペデストリアンデッキ３．主な内容　　小学4～6年生のチームによる屋台４．お願い　　　ご来場の際には、公共交通機関をご利用ください。５．主　催　　　一般社団法人 八王子青年会議所 \n\n\n\n＼ 詳しい情報はこちら ／ \n\n\n\n\n八王子こども屋台選手権HP ＞\n\n\n\n\n\n《日 時》 \n\n\n\n\n\n \n \n \n\n\n\n\n\n\n\n\n\n〈情報提供者〉 \n \n\n \n地域の人 \n\n\n\n\n\n\n\n\n\n\n\n\n\n\n\n \nイベント情報トップに戻る\n \n 
URL:https://yugi.hachiojimarche.tokyo/event/2024-%e5%85%ab%e7%8e%8b%e5%ad%90%e3%81%93%e3%81%a9%e3%82%82%e5%b1%8b%e5%8f%b0%e9%81%b8%e6%89%8b%e6%a8%a9-%e5%8d%97%e5%a4%a7%e6%b2%a2%e9%a7%85%e5%89%8d%e3%83%9a%e3%83%87%e3%82%b9%e3%83%88%e3%83%aa/
LOCATION:東京都
CATEGORIES:教育・学習 (Education & Learning),食・グルメ (Food & Gourmet)
ATTACH;FMTTYPE=image/webp:https://yugi.hachiojimarche.tokyo/wp-content/uploads/2024/03/events320-1.webp
END:VEVENT
BEGIN:VEVENT
DTSTART;TZID=Asia/Tokyo:20241026T100000
DTEND;TZID=Asia/Tokyo:20241026T150000
DTSTAMP:20260422T183549
CREATED:20241025T014910Z
LAST-MODIFIED:20250429T004532Z
UID:41943-1729936800-1729954800@yugi.hachiojimarche.tokyo
SUMMARY:第4回 草むらまつり 長谷戸公園・清水入緑地｜草むらグリーンビレッジ（終了）
DESCRIPTION:草むらまつりが今年も開催します！ \n１．開催日時　　10月26日（土）２．開催場所　　長谷戸公園・清水入緑地・草むらグリーンビレッジ　　　　　　　　所在地：八王子市南大沢２丁目２２１３．主な内容　　お囃子（南大沢囃子連）、ジャグリング（東京都立大学）、フラダンスやチャモロダンスなど、多様なパフォーマンス、その他、焼きとうもろこしやまんじゅう、たこ焼きなどなど４．お願い　　　ご来場の際には、公共交通機関をご利用ください。５．主　催　　　草むらグリーンビレッジ６．その他　　　家族で楽しめる遊びエリアなどが充実 \n\n\n\n\n《日 時》 \n\n\n\n\n\n \n \n \n\n\n\n\n\n\n\n\n\n〈情報提供者〉 \n \n\n \n地域の方 \n\n\n\n\n\n\n\n\n\n\n\n\n\n\n\n \nイベント情報トップに戻る\n \n 
URL:https://yugi.hachiojimarche.tokyo/event/%e7%ac%ac4%e5%9b%9e-%e8%8d%89%e3%82%80%e3%82%89%e3%81%be%e3%81%a4%e3%82%8a-%e9%95%b7%e8%b0%b7%e6%88%b8%e5%85%ac%e5%9c%92%e3%83%bb%e6%b8%85%e6%b0%b4%e5%85%a5%e7%b7%91%e5%9c%b0%ef%bd%9c%e8%8d%89/
LOCATION:東京都
CATEGORIES:エンターテイメント (Entertainment),コミュニティ (Community)
ATTACH;FMTTYPE=image/webp:https://yugi.hachiojimarche.tokyo/wp-content/uploads/2024/03/events320-1.webp
END:VEVENT
BEGIN:VEVENT
DTSTART;TZID=Asia/Tokyo:20241019T150000
DTEND;TZID=Asia/Tokyo:20241019T180000
DTSTAMP:20260422T183549
CREATED:20240925T022828Z
LAST-MODIFIED:20250429T004529Z
UID:40589-1729350000-1729360800@yugi.hachiojimarche.tokyo
SUMMARY:南大沢小学校で地域防災訓練 | 避難所宿泊体験など | 南大沢地域自主防災協議会（終了）
DESCRIPTION:南大沢小学校で地域防災訓練が開催されます。今回の訓練では、避難所開設や防災キャンプといったプログラムが行われ、参加者が防災に必要な知識や技術を体験しながら学ぶことができます。 \n\n\n\n\n\n\n    \n    \n    レスポンシブ画像\n     \n\n\n    \n        \n    \n\n\n\n\n\n\n詳しい情報はこちら ＞\n\n\n\n\n\n《日 時》 \n\n\n\n\n\n \n \n \n\n\n\n\n\n\n\n\n\n〈情報提供者〉 \n \n\n \n中のひとA さん \n\n\n\n\n\n\n\n\n\n\n\n\n\n\n\n \nイベント情報トップに戻る\n \n 
URL:https://yugi.hachiojimarche.tokyo/event/%e5%8d%97%e5%a4%a7%e6%b2%a2%e5%b0%8f%e5%ad%a6%e6%a0%a1%e3%81%a7%e5%9c%b0%e5%9f%9f%e9%98%b2%e7%81%bd%e8%a8%93%e7%b7%b4-%e9%81%bf%e9%9b%a3%e6%89%80%e5%ae%bf%e6%b3%8a%e4%bd%93%e9%a8%93%e3%81%aa/
LOCATION:東京都
CATEGORIES:教育・学習 (Education & Learning)
ATTACH;FMTTYPE=image/webp:https://yugi.hachiojimarche.tokyo/wp-content/uploads/2024/03/events320-1.webp
END:VEVENT
BEGIN:VEVENT
DTSTART;TZID=Asia/Tokyo:20240918T100000
DTEND;TZID=Asia/Tokyo:20240918T113000
DTSTAMP:20260422T183549
CREATED:20240821T023517Z
LAST-MODIFIED:20250429T004450Z
UID:40205-1726653600-1726659000@yugi.hachiojimarche.tokyo
SUMMARY:多世代交流イベント「いずみランランフェスタ」開催 | 子育て広場いずみ（南大沢五丁目）（終了）
DESCRIPTION:「いずみランランフェスタ」は、子育て広場いずみ（八王子市南大沢５丁目）で開催される多世代交流イベントです。焼きたてのお菓子やパン、ドリップコーヒーの提供、音楽演奏など楽しい午前を過ごすことができます。「いずみランランフェスタ」は毎月第三水曜日に開催しています。 \n\n\n\n\n《日 時》 \n\n\n\n\n\n \n\n\n\n\n\n\n\n\n\n\n\n詳しくはこちら\n \n\n\n\n\n\n\n\n〈情報提供者〉 \n \n\n \n八王子市高齢者あんしん相談センター南大沢 さん \n\n\n\n\n\n\n\n\n\n\n\n\n\n\n\n \nイベント情報トップに戻る\n \n 
URL:https://yugi.hachiojimarche.tokyo/event/%e5%a4%9a%e4%b8%96%e4%bb%a3%e4%ba%a4%e6%b5%81%e3%82%a4%e3%83%99%e3%83%b3%e3%83%88%e3%80%8c%e3%81%84%e3%81%9a%e3%81%bf%e3%83%a9%e3%83%b3%e3%83%a9%e3%83%b3%e3%83%95%e3%82%a7%e3%82%b9%e3%82%bf%e3%80%8d-2/
LOCATION:東京都
CATEGORIES:コミュニティ (Community),福祉＆ウェルネス
ATTACH;FMTTYPE=image/webp:https://yugi.hachiojimarche.tokyo/wp-content/uploads/2024/08/eyecatch_izumiranranfes320.webp
END:VEVENT
BEGIN:VEVENT
DTSTART;TZID=Asia/Tokyo:20240907T170000
DTEND;TZID=Asia/Tokyo:20240907T200000
DTSTAMP:20260422T183549
CREATED:20240826T145332Z
LAST-MODIFIED:20250429T004437Z
UID:40313-1725728400-1725739200@yugi.hachiojimarche.tokyo
SUMMARY:キャンドルナイト in 鑓水公園｜八王子市地球温暖化防止活動（終了）
DESCRIPTION:鑓水公園で令和６年９月７日（土）、八王子市地球温暖化防止活動推進員が主催する「キャンドルナイトin鑓水公園」が開催されます。点灯は午後６時３０分予定。 \n会場では、おかえり喫茶が主催する「おかえりな祭」も同日開催されます。会場内では、お囃子や盆踊り、おもちゃすくい、わなげ、各種くじなどの縁日、屋台等模擬店が多数出展されます。 \n\n\n\n\n《日 時》 \n\n\n\n\n\n \n\n \n\n\n\n\n\n後援：八王子市 / 鑓水小学校学校運営協議会 \n\n\n\n\n\n\n\n詳しくはこちら\n \n\n\n\n\n\n\n\nおかえりな祭の情報　＞\n \n\n\n\n\n\n\n\n\n\n\n \nイベント情報トップに戻る\n \n 
URL:https://yugi.hachiojimarche.tokyo/event/%e3%82%ad%e3%83%a3%e3%83%b3%e3%83%89%e3%83%ab%e3%83%8a%e3%82%a4%e3%83%88%ef%bd%9c%e9%91%93%e6%b0%b4%e5%85%ac%e5%9c%92%ef%bd%9c%e3%81%8a%e3%81%8b%e3%81%88%e3%82%8a%e5%96%ab%e8%8c%b6/
LOCATION:東京都
CATEGORIES:エンターテイメント (Entertainment),コミュニティ (Community)
ATTACH;FMTTYPE=image/webp:https://yugi.hachiojimarche.tokyo/wp-content/uploads/2024/03/events320-1.webp
END:VEVENT
BEGIN:VEVENT
DTSTART;TZID=Asia/Tokyo:20240907T170000
DTEND;TZID=Asia/Tokyo:20240907T200000
DTSTAMP:20260422T183549
CREATED:20240826T144558Z
LAST-MODIFIED:20250429T004432Z
UID:40306-1725728400-1725739200@yugi.hachiojimarche.tokyo
SUMMARY:おかえりな祭｜鑓水公園｜おかえり喫茶（終了）
DESCRIPTION:鑓水公園で９月７日（土）、地域の交流イベント「おかえりな祭」が開催されます。午後５時から開催されるイベントでは、鑓水囃子、バルーンアートショー、じゃんけん大会、竹神輿、歌や踊りなどの楽しい催しが予定されています。 \nまた、会場内では、おもちゃすくい、わなげ、各種くじ、屋台等模擬店が多数出展されます。同日、18時30分からはキャンドリナイトも同時開催されます。 \n\n\n\n\n《日 時》 \n\n\n\n\n\n \n\n \n\n\n\n\n\n\n\n\n\n詳しくはこちら\n \n\n\n\n\n\n\n\n\n\n\n\n\n\n\n \nイベント情報トップに戻る\n \n 
URL:https://yugi.hachiojimarche.tokyo/event/%e3%81%8a%e3%81%8b%e3%81%88%e3%82%8a%e3%81%aa%e7%a5%ad%ef%bd%9c%e9%91%93%e6%b0%b4%e5%85%ac%e5%9c%92%ef%bd%9c%e3%81%8a%e3%81%8b%e3%81%88%e3%82%8a%e5%96%ab%e8%8c%b6/
LOCATION:東京都
CATEGORIES:コミュニティ (Community)
ATTACH;FMTTYPE=image/webp:https://yugi.hachiojimarche.tokyo/wp-content/uploads/2024/03/events320-1.webp
ORGANIZER;CN="%E4%B8%BB%E5%82%AC%EF%BC%9A%E3%81%8A%E3%81%8B%E3%81%88%E3%82%8A%E5%96%AB%E8%8C%B6":MAILTO:mimashokai@gmail.com
END:VEVENT
BEGIN:VEVENT
DTSTART;TZID=Asia/Tokyo:20240821T100000
DTEND;TZID=Asia/Tokyo:20240821T113000
DTSTAMP:20260422T183549
CREATED:20240815T163500Z
LAST-MODIFIED:20250429T004410Z
UID:40033-1724234400-1724239800@yugi.hachiojimarche.tokyo
SUMMARY:第2回 都立大 子どもまつり2024｜東京都立大学南大沢キャンパス（終了）
DESCRIPTION:東京都立大学南大沢キャンパスで開催される未就学児と小学生向けのイベント。 \n東京都立大学の学生が企画するイベント、『第2回都立大子どもまつり2024』が、8月23日（金）に東京都立大学南大沢キャンパスで開催されます。 \nこの楽しいイベントは、東京都立大学のボランティアサークル、都立大子どもまつり委員会の学生が企画・主催し、未就学児と小学生向けに特別にプログラムされています。 \n当日のプログラムにはバルーンアートや、光る弾むスライムづくり、人形劇、遊んで学ぶ環境問題など、子どもたちの心をつかむさまざまな催し物が盛り込まれています。家族連れでの参加がおすすめですので、ぜひこの機会にお楽しみください！ \n\n\n\n開催日\n2024年8月23日(金)\n\n\n時間\n10:00～17:00\n\n\n会場\n東京都立大学 南大沢キャンパス７号館\n\n\n\n主催：都立大子どもまつり委員会、都立大ボランティアサークル \n後援：八王子市教育委員会・多摩市教育委員会 \n※当日は混雑が予想されます。公共交通機関をご利用ください。 \n \n\n  \n〈情報提供者〉 \n \n\n \nあきこ さん \n\n  \n詳しくはこちら\n \n  \nイベント情報トップに戻る\n \n 
URL:https://yugi.hachiojimarche.tokyo/event/%e7%ac%ac2%e5%9b%9e-%e9%83%bd%e7%ab%8b%e5%a4%a7-%e5%ad%90%e3%81%a9%e3%82%82%e3%81%be%e3%81%a4%e3%82%8a2024%ef%bd%9c%e6%9d%b1%e4%ba%ac%e9%83%bd%e7%ab%8b%e5%a4%a7%e5%ad%a6%e5%8d%97%e5%a4%a7%e6%b2%a2/
LOCATION:東京都立大学 南大沢キャンパス\, 南大沢1-1\, 八王子市\, 東京都\, 日本
CATEGORIES:教育・学習 (Education & Learning)
ATTACH;FMTTYPE=image/webp:https://yugi.hachiojimarche.tokyo/wp-content/uploads/2024/07/event_minamiosawa.webp
ORGANIZER;CN="%E9%83%BD%E7%AB%8B%E5%A4%A7%E5%AD%90%E3%81%A9%E3%82%82%E3%81%BE%E3%81%A4%E3%82%8A%E5%A7%94%E5%93%A1%E4%BC%9A":MAILTO:tmukodomofes@gmail.com
END:VEVENT
BEGIN:VEVENT
DTSTART;TZID=Asia/Tokyo:20240821T100000
DTEND;TZID=Asia/Tokyo:20240821T113000
DTSTAMP:20260422T183549
CREATED:20240821T025320Z
LAST-MODIFIED:20250429T004413Z
UID:40227-1724234400-1724239800@yugi.hachiojimarche.tokyo
SUMMARY:多世代交流イベント「いずみランランフェスタ」開催 | 子育て広場いずみ（南大沢五丁目）（終了）
DESCRIPTION:「いずみランランフェスタ」は、子育て広場いずみ（八王子市南大沢５丁目）で開催される多世代交流イベントです。焼きたてのお菓子やパン、ドリップコーヒーの提供、音楽演奏など楽しい午前を過ごすことができます。「いずみランランフェスタ」は毎月第三水曜日に開催しています。 \n\n\n\n\n《日 時》 \n\n\n\n\n\n \n\n\n\n\n\n\n\n\n\n\n\n詳しくはこちら\n \n\n\n\n\n\n\n\n〈情報提供者〉 \n \n\n \n八王子市高齢者あんしん相談センター南大沢 さん \n\n\n\n\n\n\n\n\n\n\n\n\n\n\n\n \nイベント情報トップに戻る\n \n 
URL:https://yugi.hachiojimarche.tokyo/event/%e5%a4%9a%e4%b8%96%e4%bb%a3%e4%ba%a4%e6%b5%81%e3%82%a4%e3%83%99%e3%83%b3%e3%83%88%e3%80%8c%e3%81%84%e3%81%9a%e3%81%bf%e3%83%a9%e3%83%b3%e3%83%a9%e3%83%b3%e3%83%95%e3%82%a7%e3%82%b9%e3%82%bf%e3%80%8d/
LOCATION:東京都
CATEGORIES:コミュニティ (Community),福祉＆ウェルネス
ATTACH;FMTTYPE=image/webp:https://yugi.hachiojimarche.tokyo/wp-content/uploads/2024/08/eyecatch_izumiranranfes320.webp
END:VEVENT
BEGIN:VEVENT
DTSTART;TZID=Asia/Tokyo:20240615T150000
DTEND;TZID=Asia/Tokyo:20240615T163000
DTSTAMP:20260422T183549
CREATED:20240329T073309Z
LAST-MODIFIED:20250429T004327Z
UID:38750-1718463600-1718469000@yugi.hachiojimarche.tokyo
SUMMARY:南大沢の自然維持アクティビティ｜清水入緑地（終了）
DESCRIPTION:清水入緑地の里山的整備プロジェクト\nこの活動は、森林整備のプロのサポート受けながら、南大沢地域住人と市内外から参加する市民ボランティア、学生（小中高大）などと取り組む自然維持協働プロジェクトです。 \n自然に触れあい学びながら気分転換しつつ、安全かつ快適な自然維持に貢献できます。 \n\n\n\n開催日\n2024年6月15日(土)\n\n\n時　間\n15:00～16:30\n\n\n活　動\n植樹エリアの草刈りなど整備・自然観察\n\n\n集　合\n清水入緑地 藤棚前 10分前（南大沢駅徒歩15分）\n\n\n参加費\n無料\n\n\n\n住所：八王子市南大沢2丁目　清水入緑地公衆トイレ付近 \n《注意事項》 \n\n小さなお子様連れの方は、安全に配慮し、ご参加ください。\n天候状況により、作業の延期や中止の可能性があります。地元住人で構成される清水入緑地整備グループ「みなもり」のLINE公式アカウントをご登録ください。 \n服装・持ち物をよく確認してご参加ください \n\n季節かかわらず長袖・長ズボンスタイル\n運動靴など斜面がしっかり歩ける靴\n軍手・汗拭きタオル・飲料水\n\n《非推奨》\n半袖・半ズボン・サンダルなど肌を露出している服装 \n  \n詳しくはこちら\n\n  \nイベント情報トップに戻る
URL:https://yugi.hachiojimarche.tokyo/event/%e6%b8%85%e6%b0%b4%e5%85%a5%e7%b7%91%e5%9c%b0%e3%81%ae%e8%87%aa%e7%84%b6%e7%b6%ad%e6%8c%81%e3%82%a2%e3%82%af%e3%83%86%e3%82%a3%e3%83%93%e3%83%86%e3%82%a3%e3%80%9c%e3%82%b9%e3%82%ba%e3%83%a1%e3%83%90/
LOCATION:清水入り緑地\, 南大沢2\, 八王子市\, 東京都\, 1920364\, 日本
CATEGORIES:コミュニティ (Community)
ATTACH;FMTTYPE=image/webp:https://yugi.hachiojimarche.tokyo/wp-content/uploads/2024/03/events320_shizenhogo.webp
END:VEVENT
BEGIN:VEVENT
DTSTART;TZID=Asia/Tokyo:20240501T100000
DTEND;TZID=Asia/Tokyo:20240506T160000
DTSTAMP:20260422T183549
CREATED:20240410T075846Z
LAST-MODIFIED:20250429T004224Z
UID:38975-1714557600-1715011200@yugi.hachiojimarche.tokyo
SUMMARY:きかんしゃトーマスとなかまたち in 東京たま未来メッセ | イベント5月1日〜6日（終了）
DESCRIPTION:きかんしゃトーマスとなかまたちが東京たま未来メッセに大集合！体験型アトラクションやゲームなど、楽しい催しが盛りだくさんのイベントです。「きかんしゃトーマスとなかまたちin東京たま未来メッセ」はゴールデンウィークに開催されます。 \n\n\n\n開催日\n2024年5月1日(水)〜5月6日(月祝)\n\n\n時　間\n10:00-16:00\n\n\n会　場\n東京たま未来メッセ\n\n\nその他\n入場時間10:00～13:00　大人1000円 / 子ども700円（2才～小学生）\n入場時間13:00～15:30　大人800円 / 子ども500円（2才～小学生）入場券は当日券のみ（会場にて販売）\n\n\n\n  \n \n  \n詳しくはこちら\n\n  \nイベント情報トップに戻る
URL:https://yugi.hachiojimarche.tokyo/event/%e3%81%8d%e3%81%8b%e3%82%93%e3%81%97%e3%82%83%e3%83%88%e3%83%bc%e3%83%9e%e3%82%b9%e3%81%a8%e3%81%aa%e3%81%8b%e3%81%be%e3%81%9f%e3%81%a1%ef%bd%9c%e6%9d%b1%e4%ba%ac%e3%81%9f%e3%81%be%e6%9c%aa%e6%9d%a5/
LOCATION:東京たま未来メッセ\, 明神町3-19\, 八王子市\, 東京都\, 192-0046\, 日本
CATEGORIES:エンターテイメント (Entertainment)
ATTACH;FMTTYPE=image/webp:https://yugi.hachiojimarche.tokyo/wp-content/uploads/2024/03/events320-1.webp
END:VEVENT
BEGIN:VEVENT
DTSTART;TZID=Asia/Tokyo:20240428T100000
DTEND;TZID=Asia/Tokyo:20240428T180000
DTSTAMP:20260422T183549
CREATED:20240329T092810Z
LAST-MODIFIED:20250429T004159Z
UID:38776-1714298400-1714327200@yugi.hachiojimarche.tokyo
SUMMARY:第26回フラワーフェスティバル由木 | 南大沢駅前・中郷公園（終了）
DESCRIPTION:4/27(土)～4/28(日)の2日間、南大沢中郷公園及び南大沢駅前遊歩道で開催。 \n詳しくはこちら\n  \n \n  \n\n\n\n\n\n\n\n\n\n\n\nイベント情報のトップに戻る
URL:https://yugi.hachiojimarche.tokyo/event/%e7%ac%ac26%e5%9b%9e%e3%83%95%e3%83%a9%e3%83%af%e3%83%bc%e3%83%95%e3%82%a7%e3%82%b9%e3%83%86%e3%82%a3%e3%83%90%e3%83%ab%e7%94%b1%e6%9c%a8-2/
LOCATION:南大沢中郷公園\, 南大沢２丁目２６\, 八王子市\, 東京都\, 1920364\, 日本
CATEGORIES:エンターテイメント (Entertainment),文化・芸術 (Culture & Arts)
ATTACH;FMTTYPE=image/webp:https://yugi.hachiojimarche.tokyo/wp-content/uploads/2024/03/events320-1.webp
END:VEVENT
BEGIN:VEVENT
DTSTART;TZID=Asia/Tokyo:20240427T100000
DTEND;TZID=Asia/Tokyo:20240427T180000
DTSTAMP:20260422T183549
CREATED:20240329T092529Z
LAST-MODIFIED:20250429T004137Z
UID:38771-1714212000-1714240800@yugi.hachiojimarche.tokyo
SUMMARY:第26回フラワーフェスティバル由木 | 南大沢駅前・中郷公園（終了）
DESCRIPTION:4/27(土)～4/28(日)の2日間、南大沢中郷公園及び南大沢駅前遊歩道で開催。 \n詳しくはこちら\n \n \n  \n\n\n\n\n\n\n\n\n\n\n\nイベント情報トップに戻る
URL:https://yugi.hachiojimarche.tokyo/event/%e7%ac%ac26%e5%9b%9e%e3%83%95%e3%83%a9%e3%83%af%e3%83%bc%e3%83%95%e3%82%a7%e3%82%b9%e3%83%86%e3%82%a3%e3%83%90%e3%83%ab%e7%94%b1%e6%9c%a8/
LOCATION:南大沢中郷公園\, 南大沢２丁目２６\, 八王子市\, 東京都\, 1920364\, 日本
CATEGORIES:エンターテイメント (Entertainment),文化・芸術 (Culture & Arts)
ATTACH;FMTTYPE=image/webp:https://yugi.hachiojimarche.tokyo/wp-content/uploads/2024/03/events320-1.webp
END:VEVENT
BEGIN:VEVENT
DTSTART;TZID=Asia/Tokyo:20240424T110000
DTEND;TZID=Asia/Tokyo:20240424T113000
DTSTAMP:20260422T183549
CREATED:20240407T005150Z
LAST-MODIFIED:20250429T004120Z
UID:38955-1713956400-1713958200@yugi.hachiojimarche.tokyo
SUMMARY:どんぐりマルシェ | どんぐり分校いきいきサロン | 南大沢の地域イベント（終了）
DESCRIPTION:子どもから大人まで世代を超えた人たちが集い、憩い、くつろぎ、なごむ。 \n里山の自然が残る小山内裏公園で「心のふるさとづくり」のため、地域交流の場の運営に取り組むボランティアグループ「どんぐり分校」が主催するイベント。 \n\n\n\n開催日\n2024年4月24日(水)\n\n\n時　間\n10:00-11:30\n\n\n会　場\n南大沢中学校 1階 集会室\n\n\n\nどんぐりマルシェ\n焼きたてパン、焼き菓子、お饅頭、新鮮野菜など（由木かたくりの会、多摩草むらの会）\n（その他、ピアノやウクレレ演奏、将棋、卓球など楽しみ方は人それぞれ） \n共催：どんぐり分校いきいきサロン\n協力：小山内裏公園、南大沢中学校、八王子市南大沢保健福祉センター、八王子市南大沢図書館、八王子市都市計画部都市総務課、八王子市社会福祉協議会、高齢者あんしん相談センター南大沢 \n  \n詳しくはこちら\n\n  \nイベント情報トップに戻る
URL:https://yugi.hachiojimarche.tokyo/event/%e3%81%a9%e3%82%93%e3%81%90%e3%82%8a%e3%83%9e%e3%83%ab%e3%82%b7%e3%82%a7-%e3%81%a9%e3%82%93%e3%81%90%e3%82%8a%e5%88%86%e6%a0%a1%e3%81%84%e3%81%8d%e3%81%84%e3%81%8d%e3%82%b5%e3%83%ad%e3%83%b3-2/
LOCATION:南大沢中学校\, 南大沢3-7\, 八王子市\, 東京都\, 1920364\, 日本
CATEGORIES:文化・芸術 (Culture & Arts),福祉＆ウェルネス
ATTACH;FMTTYPE=image/webp:https://yugi.hachiojimarche.tokyo/wp-content/uploads/2024/03/events320-1.webp
END:VEVENT
BEGIN:VEVENT
DTSTART;TZID=Asia/Tokyo:20240410T110000
DTEND;TZID=Asia/Tokyo:20240410T113000
DTSTAMP:20260422T183549
CREATED:20240407T004935Z
LAST-MODIFIED:20250429T003940Z
UID:38948-1712746800-1712748600@yugi.hachiojimarche.tokyo
SUMMARY:どんぐりマルシェ | どんぐり分校いきいきサロン | 南大沢の地域イベント（終了）
DESCRIPTION:子どもから大人まで世代を超えた人たちが集い、憩い、くつろぎ、なごむ。 \n里山の自然が残る小山内裏公園で「心のふるさとづくり」のため、地域交流の場の運営に取り組むボランティアグループ「どんぐり分校」が主催するイベント。 \n\n\n\n開催日\n2024年4月10日(水)\n\n\n時　間\n10:00-11:30\n\n\n会　場\n南大沢中学校 1階 集会室\n\n\n\nどんぐりマルシェ\n焼きたてパン、焼き菓子、お饅頭、新鮮野菜など（由木かたくりの会、多摩草むらの会）\n（その他、ピアノやウクレレ演奏、将棋、卓球など楽しみ方は人それぞれ） \n共催：どんぐり分校いきいきサロン\n協力：小山内裏公園、南大沢中学校、八王子市南大沢保健福祉センター、八王子市南大沢図書館、八王子市都市計画部都市総務課、八王子市社会福祉協議会、高齢者あんしん相談センター南大沢 \n  \n詳しくはこちら\n\n  \nイベント情報トップに戻る
URL:https://yugi.hachiojimarche.tokyo/event/%e3%81%a9%e3%82%93%e3%81%90%e3%82%8a%e3%83%9e%e3%83%ab%e3%82%b7%e3%82%a7-%e3%81%a9%e3%82%93%e3%81%90%e3%82%8a%e5%88%86%e6%a0%a1%e3%81%84%e3%81%8d%e3%81%84%e3%81%8d%e3%82%b5%e3%83%ad%e3%83%b3/
LOCATION:南大沢中学校\, 南大沢3-7\, 八王子市\, 東京都\, 1920364\, 日本
CATEGORIES:文化・芸術 (Culture & Arts),福祉＆ウェルネス
ATTACH;FMTTYPE=image/webp:https://yugi.hachiojimarche.tokyo/wp-content/uploads/2024/03/events320-1.webp
END:VEVENT
BEGIN:VEVENT
DTSTART;TZID=Asia/Tokyo:20240330T100000
DTEND;TZID=Asia/Tokyo:20240414T210000
DTSTAMP:20260422T183549
CREATED:20240329T115057Z
LAST-MODIFIED:20250429T003833Z
UID:38790-1711792800-1713128400@yugi.hachiojimarche.tokyo
SUMMARY:イチ推し文具ふぇす 期間3/30～4/14｜イトーヨーカドー南大沢店（終了）
DESCRIPTION:3/30(土)～4/14(日)の間、イトーヨーカドー南大沢店で「イチ推し文具ふぇす」が開催。 \n新学期に向けて好みの文具をお得にGET！ \n詳しくはこちら\n  \n\n\n\n\n\n\n\n\n\n\n\nイベント情報トップに戻る
URL:https://yugi.hachiojimarche.tokyo/event/%e3%82%a4%e3%83%81%e6%8e%a8%e3%81%97%e6%96%87%e5%85%b7%e3%81%b5%e3%81%87%e3%81%99%ef%bd%9c%e3%82%a4%e3%83%88%e3%83%bc%e3%83%a8%e3%83%bc%e3%82%ab%e3%83%89%e3%83%bc%e5%8d%97%e5%a4%a7%e6%b2%a2%e5%ba%97/
LOCATION:イトーヨーカドー南大沢\, 南大沢２丁目28−１\, 八王子市\, 東京都\, 1920364\, 日本
CATEGORIES:教育・学習 (Education & Learning)
ATTACH;FMTTYPE=image/webp:https://yugi.hachiojimarche.tokyo/wp-content/uploads/2024/03/events320-1.webp
END:VEVENT
END:VCALENDAR