BEGIN:VCALENDAR
VERSION:2.0
PRODID:-//八王子 由木マルシェ - ECPv6.15.20//NONSGML v1.0//EN
CALSCALE:GREGORIAN
METHOD:PUBLISH
X-WR-CALNAME:八王子 由木マルシェ
X-ORIGINAL-URL:https://yugi.hachiojimarche.tokyo
X-WR-CALDESC:八王子 由木マルシェ のイベント
REFRESH-INTERVAL;VALUE=DURATION:PT1H
X-Robots-Tag:noindex
X-PUBLISHED-TTL:PT1H
BEGIN:VTIMEZONE
TZID:Asia/Tokyo
BEGIN:STANDARD
TZOFFSETFROM:+0900
TZOFFSETTO:+0900
TZNAME:JST
DTSTART:20230101T000000
END:STANDARD
END:VTIMEZONE
BEGIN:VEVENT
DTSTART;TZID=Asia/Tokyo:20241130T100000
DTEND;TZID=Asia/Tokyo:20241130T160000
DTSTAMP:20260423T012509
CREATED:20241119T072752Z
LAST-MODIFIED:20250429T004650Z
UID:42355-1732960800-1732982400@yugi.hachiojimarche.tokyo
SUMMARY:次世代モビリティ体験会 パオレビル広場｜南大沢駅前イベント（終了）
DESCRIPTION:2024年11月30日（土）、南大沢駅前で「次世代モビリティ体験会」が開催されます。 \nこのイベントでは、Toyota Mobility Tokyoの免許が無くても乗れる「C⁺walks」や車いすロボット「movBot」、コンパクトに折りたたむことができる小型二輪車両「カーメイト」など、さまざまな次世代モビリティを試乗体験できます。 \n\n\n\n\n11/30(土) 南大沢駅前でモビリティ体験会開催 | 東京都 スマート東京
URL:https://yugi.hachiojimarche.tokyo/event/%e6%ac%a1%e4%b8%96%e4%bb%a3%e3%83%a2%e3%83%93%e3%83%aa%e3%83%86%e3%82%a3%e4%bd%93%e9%a8%93%e4%bc%9a-%e3%83%91%e3%82%aa%e3%83%ac%e3%83%93%e3%83%ab%e5%ba%83%e5%a0%b4%ef%bd%9c%e5%8d%97%e5%a4%a7%e6%b2%a2/
LOCATION:南大沢駅前\, 南大沢2-1-6\, 八王子市\, 東京都\, 1920364\, 日本
CATEGORIES:その他,福祉＆ウェルネス
ATTACH;FMTTYPE=image/webp:https://yugi.hachiojimarche.tokyo/wp-content/uploads/2024/03/events320-1.webp
END:VEVENT
BEGIN:VEVENT
DTSTART;TZID=Asia/Tokyo:20240421T100000
DTEND;TZID=Asia/Tokyo:20240421T160000
DTSTAMP:20260423T012509
CREATED:20240407T012312Z
LAST-MODIFIED:20250429T004104Z
UID:38964-1713693600-1713715200@yugi.hachiojimarche.tokyo
SUMMARY:南大沢アースデイ｜南大沢駅前イベント（終了）
DESCRIPTION:アースデイは、環境保全を呼びかける情報発信の場としての役割を果たしています。イベントでは、子どもの遊び場、展示、ワークショップ、フェアトレード品の販売など、楽しみながら環境保全に参加できるイベント。 \n\n\n\n開催日\n2024年4月20日（土）-21日（日）\n\n\n時　間\n10:00-16:00\n\n\n会　場\n南大沢駅前周辺\n\n\n\n共催：アースデイ東京多摩実行委員会\n後援：東京都 \n※雨天決行 \nアースデイとは？\nアースデイ（地球の日・4月22日）とは、1970年から続く大人から子供まで国境・民族・信条・政党・宗派を越えて多くの市民が参加し、 世界184の国と地域、約5.000ケ所で行われている、世界最大の環境フェスティバルです。日本においても、代々木公園をはじめ、全国各地で 環境フェスティバルが開催されています。（情報：アースデイジャパン東京多摩実行委員会HP） \n  \n詳しくはこちら\n\n  \nイベント情報トップに戻る\n\n南大沢駅前イベント情報はこちら ＞
URL:https://yugi.hachiojimarche.tokyo/event/%e5%8d%97%e5%a4%a7%e6%b2%a2%e3%82%a2%e3%83%bc%e3%82%b9%e3%83%87%e3%82%a4%ef%bd%9c%e5%8d%97%e5%a4%a7%e6%b2%a2%e9%a7%85%e5%89%8d%e3%82%a4%e3%83%99%e3%83%b3%e3%83%88-2/
LOCATION:南大沢駅前\, 南大沢2-1-6\, 八王子市\, 東京都\, 1920364\, 日本
CATEGORIES:教育・学習 (Education & Learning),文化・芸術 (Culture & Arts)
ATTACH;FMTTYPE=image/webp:https://yugi.hachiojimarche.tokyo/wp-content/uploads/2024/03/events320-1.webp
END:VEVENT
BEGIN:VEVENT
DTSTART;TZID=Asia/Tokyo:20240420T100000
DTEND;TZID=Asia/Tokyo:20240420T160000
DTSTAMP:20260423T012509
CREATED:20240407T012219Z
LAST-MODIFIED:20250429T004045Z
UID:38960-1713607200-1713628800@yugi.hachiojimarche.tokyo
SUMMARY:南大沢アースデイ｜南大沢駅前イベント（終了）
DESCRIPTION:アースデイは、環境保全を呼びかける情報発信の場としての役割を果たしています。イベントでは、子どもの遊び場、展示、ワークショップ、フェアトレード品の販売など、楽しみながら環境保全に参加できるイベント。 \n\n\n\n開催日\n2024年4月20日（土）-21日（日）\n\n\n時　間\n10:00-16:00\n\n\n会　場\n南大沢駅前周辺\n\n\n\n共催：アースデイ東京多摩実行委員会\n後援：東京都 \n※雨天決行 \nアースデイとは？\nアースデイ（地球の日・4月22日）とは、1970年から続く大人から子供まで国境・民族・信条・政党・宗派を越えて多くの市民が参加し、 世界184の国と地域、約5.000ケ所で行われている、世界最大の環境フェスティバルです。日本においても、代々木公園をはじめ、全国各地で 環境フェスティバルが開催されています。（情報：アースデイジャパン東京多摩実行委員会HP） \n  \n詳しくはこちら\n\n  \nイベント情報トップに戻る\n\n南大沢駅前イベント情報はこちら ＞
URL:https://yugi.hachiojimarche.tokyo/event/%e5%8d%97%e5%a4%a7%e6%b2%a2%e3%82%a2%e3%83%bc%e3%82%b9%e3%83%87%e3%82%a4%ef%bd%9c%e5%8d%97%e5%a4%a7%e6%b2%a2%e9%a7%85%e5%89%8d%e3%82%a4%e3%83%99%e3%83%b3%e3%83%88/
LOCATION:南大沢駅前\, 南大沢2-1-6\, 八王子市\, 東京都\, 1920364\, 日本
CATEGORIES:教育・学習 (Education & Learning),文化・芸術 (Culture & Arts)
ATTACH;FMTTYPE=image/webp:https://yugi.hachiojimarche.tokyo/wp-content/uploads/2024/03/events320-1.webp
END:VEVENT
END:VCALENDAR