BEGIN:VCALENDAR
VERSION:2.0
PRODID:-//八王子 由木マルシェ - ECPv6.15.20//NONSGML v1.0//EN
CALSCALE:GREGORIAN
METHOD:PUBLISH
X-WR-CALNAME:八王子 由木マルシェ
X-ORIGINAL-URL:https://yugi.hachiojimarche.tokyo
X-WR-CALDESC:八王子 由木マルシェ のイベント
REFRESH-INTERVAL;VALUE=DURATION:PT1H
X-Robots-Tag:noindex
X-PUBLISHED-TTL:PT1H
BEGIN:VTIMEZONE
TZID:Asia/Tokyo
BEGIN:STANDARD
TZOFFSETFROM:+0900
TZOFFSETTO:+0900
TZNAME:JST
DTSTART:20230101T000000
END:STANDARD
END:VTIMEZONE
BEGIN:VEVENT
DTSTART;TZID=Asia/Tokyo:20241126T100000
DTEND;TZID=Asia/Tokyo:20241126T113000
DTSTAMP:20260421T182831
CREATED:20241124T030823Z
LAST-MODIFIED:20250429T004631Z
UID:42434-1732615200-1732620600@yugi.hachiojimarche.tokyo
SUMMARY:大学生主催！2024年度 地域防災マップ作成会 | 八王子松が谷コミュニティープレイスまつまる（終了）
DESCRIPTION:松が谷商店街（八王子市）にあるコミュニティープレイス「まつまる」で開催されるイベント情報です。 \nこのイベントでは、帝京大学寺川ゼミが主催する学生と一緒に取り組むイベントです。もしもの時に備えるための情報交換やアイデアの共有をしながら、楽しく地域の防災マップを作成します。 \n\n\n\n\n\n\n    \n    \n    レスポンシブ画像\n     \n\n\n    \n        \n    \n\n\n\n\n\n情報元：松が谷コミュニティープレイスまつまるInstagram \n\n\n\n\n続けてよく読まれている関連ページ\n\n【まつまる】松が谷卓球場（松が谷コミュニティプレイスまつまる）
URL:https://yugi.hachiojimarche.tokyo/event/%e5%a4%a7%e5%ad%a6%e7%94%9f%e4%b8%bb%e5%82%ac%ef%bc%812024%e5%b9%b4%e5%ba%a6-%e5%9c%b0%e5%9f%9f%e9%98%b2%e7%81%bd%e3%83%9e%e3%83%83%e3%83%97%e4%bd%9c%e6%88%90%e4%bc%9a-%e5%85%ab%e7%8e%8b%e5%ad%90/
LOCATION:松が谷コミュニティープレイスまつまる\, 松が谷11-6\, 八王子市\, Japan
CATEGORIES:コミュニティ (Community),その他
ATTACH;FMTTYPE=image/webp:https://yugi.hachiojimarche.tokyo/wp-content/uploads/2024/03/events320-1.webp
END:VEVENT
BEGIN:VEVENT
DTSTART;TZID=Asia/Tokyo:20240824T170000
DTEND;TZID=Asia/Tokyo:20240824T203000
DTSTAMP:20260421T182831
CREATED:20240811T084905Z
LAST-MODIFIED:20250429T004422Z
UID:39854-1724518800-1724531400@yugi.hachiojimarche.tokyo
SUMMARY:第41回「納涼祭」八王子鹿島地区のイベント（終了）
DESCRIPTION:八王子市鹿島地区の歴史ある夏のイベント。\n鹿島小学校の校庭と体育館を使った鹿島地区の納涼祭です。 \n\n\n\n開催日\n2024年8月24日(土)\n\n\n時間\n17:00～20:30頃まで\n\n\n会場\n鹿島小学校\n\n\n\n主催：鹿島地区連絡協議会 \n※雨天の場合8月25日（日）\n※当日は混雑が予想されます。公共交通機関をご利用ください。 \n \n  \n詳しくはこちら\n\n  \nイベント情報トップに戻る
URL:https://yugi.hachiojimarche.tokyo/event/%e5%85%ab%e7%8e%8b%e5%ad%90%e9%b9%bf%e5%b3%b6%e5%9c%b0%e5%8c%ba-%e7%ac%ac41%e5%9b%9e%e3%80%8c%e7%b4%8d%e6%b6%bc%e7%a5%ad%e3%80%8d/
LOCATION:八王子市立鹿島小学校\, 鹿島13\, 八王子市\, 東京都\, 日本
CATEGORIES:文化・芸術 (Culture & Arts)
ATTACH;FMTTYPE=image/webp:https://yugi.hachiojimarche.tokyo/wp-content/uploads/2024/07/event_minamiosawa.webp
END:VEVENT
END:VCALENDAR