BEGIN:VCALENDAR
VERSION:2.0
PRODID:-//八王子 由木マルシェ - ECPv6.15.20//NONSGML v1.0//EN
CALSCALE:GREGORIAN
METHOD:PUBLISH
X-ORIGINAL-URL:https://yugi.hachiojimarche.tokyo
X-WR-CALDESC:八王子 由木マルシェ のイベント
REFRESH-INTERVAL;VALUE=DURATION:PT1H
X-Robots-Tag:noindex
X-PUBLISHED-TTL:PT1H
BEGIN:VTIMEZONE
TZID:Asia/Tokyo
BEGIN:STANDARD
TZOFFSETFROM:+0900
TZOFFSETTO:+0900
TZNAME:JST
DTSTART:20230101T000000
END:STANDARD
END:VTIMEZONE
BEGIN:VEVENT
DTSTART;TZID=Asia/Tokyo:20250830T150000
DTEND;TZID=Asia/Tokyo:20250830T200000
DTSTAMP:20260422T232937
CREATED:20250730T020303Z
LAST-MODIFIED:20250730T021322Z
UID:44998-1756566000-1756584000@yugi.hachiojimarche.tokyo
SUMMARY:第27回 長池 ぽんぽこ祭り | 長池公園のイベント
DESCRIPTION:長池公園（八王子市別所）で開催されるイベント「長池ぽんぽこ祭り」が今年も開催！ \n長池公園は、ドラマや映画のロケ地として有名な長池見附橋がある南大沢のお出かけスポットです。ぽんぽこ祭りで暑さを吹き飛ばしましょう！ \n\n\n\n開催日\n2025年8月30日(土)\n\n\n時間\n15:00～20:00頃まで\n\n\n会場\n長池公園内\n\n\n\n芝生広場：キッチンカー＆フリースペース見附橋下・姿池周囲：ステージ＆マルシェ会場 \n主催：長池ぽんぽこ祭り実行委員会 \n後援：八王子市 \n※雨天中止・順延日無し※当日は混雑が予想されます。公共交通機関をご利用ください。 \n \n\n詳しくはこちら\n \n〈情報提供者〉 \n \n\n \nどなすけ さん \n\n \nイベント情報トップに戻る\n \n 
URL:https://yugi.hachiojimarche.tokyo/event/%e7%ac%ac27%e5%9b%9e-%e9%95%b7%e6%b1%a0-%e3%81%bd%e3%82%93%e3%81%bd%e3%81%93%e7%a5%ad%e3%82%8a-%e9%95%b7%e6%b1%a0%e5%85%ac%e5%9c%92%e3%81%ae%e3%82%a4%e3%83%99%e3%83%b3%e3%83%88/
LOCATION:長池公園\, 別所2-58\, 八王子市\, 東京都\, 日本
CATEGORIES:エンターテイメント (Entertainment)
ATTACH;FMTTYPE=image/webp:https://yugi.hachiojimarche.tokyo/wp-content/uploads/2024/03/events320-1.webp
END:VEVENT
BEGIN:VEVENT
DTSTART;TZID=Asia/Tokyo:20250412T100000
DTEND;TZID=Asia/Tokyo:20250412T150000
DTSTAMP:20260422T232937
CREATED:20250404T232834Z
LAST-MODIFIED:20250429T004940Z
UID:44172-1744452000-1744470000@yugi.hachiojimarche.tokyo
SUMMARY:第5回 おさんぽマルシェ＠八王子市長池公園⁡｜長池公園のイベント（終了）
DESCRIPTION:「おさんぽマルシェ」1年ぶりの開催\n\n\n約1年ぶりに、「おさんぽマルシェ」が八王子市長池公園にて開催されます。今回は、こだわりの雑貨やグルメなど、素敵な出店者が多数参加予定。親子連れやペット連れの方も歓迎の、気軽に立ち寄れるマルシェです。 \nお天気の良い春の日、おさんぽがてらふらっと立ち寄って、おいしいもの・かわいいものを探してみてはいかがでしょうか？ \n主催：おさんぽマルシェ \n\n\n\n\n\n    \n    \n     \n\n\n    \n        \n    \n\n\n\n\n\n\n\n\n\n＼ 長池公園の情報はこちら ／ \n\n\n\n\nひとまりみどり由木HP ＞\n\n\n\n\n\n\n\n〈情報提供者〉 \n \n\n \nななし さん \n\n \nイベント情報トップに戻る\n \n 
URL:https://yugi.hachiojimarche.tokyo/event/nagaikeparkevent20250412/
LOCATION:東京都
CATEGORIES:エンターテイメント (Entertainment),食・グルメ (Food & Gourmet)
ATTACH;FMTTYPE=image/webp:https://yugi.hachiojimarche.tokyo/wp-content/uploads/2025/04/eyecatch_nagaikepark320.webp
END:VEVENT
BEGIN:VEVENT
DTSTART;TZID=Asia/Tokyo:20241124T110000
DTEND;TZID=Asia/Tokyo:20241124T160000
DTSTAMP:20260422T232937
CREATED:20241124T023402Z
LAST-MODIFIED:20250429T004627Z
UID:42422-1732446000-1732464000@yugi.hachiojimarche.tokyo
SUMMARY:CRAFT PARKとなりの職人 vol.6｜長池公園のイベント（終了）
DESCRIPTION:なかなか見つけられないあなたの「好き」と「作る」職人さんをつなぐプロジェクト。 \nこの「CRAFT PARKとなりの職人」は、八王子市多摩ニュータウンにある長池公園（八王子市別所）で開催するイベントです。職人さんとの「Face to face」（＝会ってふれあう）を通して、ユーザーさんと職人さんのコミュニケーションを図り、様々な可能性を広げる場となるイベントです。 \n\n\n\n\n\n\n    \n    \n    レスポンシブ画像\n     \n\n\n    \n        \n    \n\n\n\n\n\n\n\n開催日\n2024年11月23日(土)～24日(日)\n\n\n時　間\n11:00-16:00\n\n\n会　場\n長池公園（芝生広場）\n\n\n\n共催：畳屋 よこうち、八王子市都市公園指定管理者ひとまちみどり由木、NPOフュージョン長池協力：サーカス就労継続支援B型事業所、ボランティア・コネクション、ご有志の皆様後援：八王子市教育委員会 \n※屋外のため雨天中止 \n詳しくはこちら\n \nイベント情報トップに戻る
URL:https://yugi.hachiojimarche.tokyo/event/craft-park%e3%81%a8%e3%81%aa%e3%82%8a%e3%81%ae%e8%81%b7%e4%ba%ba-vol-6%ef%bd%9c%e9%95%b7%e6%b1%a0%e5%85%ac%e5%9c%92%e3%81%ae%e3%82%a4%e3%83%99%e3%83%b3%e3%83%88-2/
LOCATION:長池公園\, 別所2-58\, 八王子市\, 東京都\, 日本
CATEGORIES:エンターテイメント (Entertainment)
ATTACH;FMTTYPE=image/webp:https://yugi.hachiojimarche.tokyo/wp-content/uploads/2024/03/events320-1.webp
END:VEVENT
BEGIN:VEVENT
DTSTART;TZID=Asia/Tokyo:20241123T110000
DTEND;TZID=Asia/Tokyo:20241123T160000
DTSTAMP:20260422T232937
CREATED:20241104T075506Z
LAST-MODIFIED:20250429T004618Z
UID:42153-1732359600-1732377600@yugi.hachiojimarche.tokyo
SUMMARY:CRAFT PARKとなりの職人 vol.6｜長池公園のイベント（終了）
DESCRIPTION:なかなか見つけられないあなたの「好き」と「作る」職人さんをつなぐプロジェクト。 \nこの「CRAFT PARKとなりの職人」は、八王子市多摩ニュータウンにある長池公園（八王子市別所）で開催するイベントです。職人さんとの「Face to face」（＝会ってふれあう）を通して、ユーザーさんと職人さんのコミュニケーションを図り、様々な可能性を広げる場となるイベントです。 \n\n\n\n\n\n\n    \n    \n    レスポンシブ画像\n     \n\n\n    \n        \n    \n\n\n\n\n  \n\n\n\n開催日\n2024年11月23日(土)～24日(日)\n\n\n時　間\n11:00-16:00\n\n\n会　場\n長池公園（芝生広場）\n\n\n\n共催：畳屋 よこうち、八王子市都市公園指定管理者ひとまちみどり由木、NPOフュージョン長池協力：サーカス就労継続支援B型事業所、ボランティア・コネクション、ご有志の皆様後援：八王子市教育委員会 \n※屋外のため雨天中止 \n  \n詳しくはこちら\n \n  \nイベント情報トップに戻る
URL:https://yugi.hachiojimarche.tokyo/event/craft-park%e3%81%a8%e3%81%aa%e3%82%8a%e3%81%ae%e8%81%b7%e4%ba%ba-vol-6%ef%bd%9c%e9%95%b7%e6%b1%a0%e5%85%ac%e5%9c%92%e3%81%ae%e3%82%a4%e3%83%99%e3%83%b3%e3%83%88/
LOCATION:長池公園\, 別所2-58\, 八王子市\, 東京都\, 日本
CATEGORIES:エンターテイメント (Entertainment)
ATTACH;FMTTYPE=image/webp:https://yugi.hachiojimarche.tokyo/wp-content/uploads/2024/03/events320-1.webp
END:VEVENT
BEGIN:VEVENT
DTSTART;TZID=Asia/Tokyo:20241110T100000
DTEND;TZID=Asia/Tokyo:20241110T120000
DTSTAMP:20260422T232937
CREATED:20241030T105405Z
LAST-MODIFIED:20250429T004552Z
UID:42090-1731232800-1731240000@yugi.hachiojimarche.tokyo
SUMMARY:長池公園の自然を感じる陶芸体験（小・中学生向け ）| 長池公園のイベント（終了）
DESCRIPTION:満員になりました \n\n\n長池公園（八王子市別所）で開催されるイベント。 \n女子美術大学 工芸専攻 陶芸分野の学生が開催するワークショップ。 \n主催：女子美術大学 \n共催：八王子市都市公園指定管理者ひとまちみどり由木 \n \n\n  \n詳しくはこちら\n \n  \n〈情報提供者〉 \n \n\n \nみや さん \n\n \n  \nイベント情報トップに戻る\n \n 
URL:https://yugi.hachiojimarche.tokyo/event/%e9%95%b7%e6%b1%a0%e5%85%ac%e5%9c%92%e3%81%ae%e8%87%aa%e7%84%b6%e3%82%92%e6%84%9f%e3%81%98%e3%82%8b%e9%99%b6%e8%8a%b8%e4%bd%93%e9%a8%93%ef%bc%88%e5%b0%8f%e3%83%bb%e4%b8%ad%e5%ad%a6%e7%94%9f%e5%90%91/
LOCATION:長池公園\, 別所2-58\, 八王子市\, 東京都\, 日本
CATEGORIES:教育・学習 (Education & Learning),文化・芸術 (Culture & Arts)
ATTACH;FMTTYPE=image/webp:https://yugi.hachiojimarche.tokyo/wp-content/uploads/2024/07/event_minamiosawa.webp
END:VEVENT
BEGIN:VEVENT
DTSTART;TZID=Asia/Tokyo:20240824T150000
DTEND;TZID=Asia/Tokyo:20240824T200000
DTSTAMP:20260422T232937
CREATED:20240815T141147Z
LAST-MODIFIED:20250429T004417Z
UID:39960-1724511600-1724529600@yugi.hachiojimarche.tokyo
SUMMARY:第26回 長池 ぽんぽこ祭り | 長池公園のイベント（終了）
DESCRIPTION:長池公園（八王子市別所）で開催されるイベント。 \nNHK朝ドラのロケ地でもある長池見附橋周辺で、今年も長池ぽんぽこ祭りが開催！ \n今年はさらにパワーアップ！\nマルシェ30店超！キッチンカー16台集結！8つのステージプログラムをラインナップ★\nぽんぽこ祭りで暑さを吹き飛ばしましょう！ \n\n\n\n開催日\n2024年8月24日(土)\n\n\n時間\n15:00～20:00頃まで\n\n\n会場\n長池公園\n\n\n\n芝生広場：キッチンカー＆フリースペース\n見附橋下 姿池周囲：ステージ＆マルシェ会場 \n主催：長池ぽんぽこ祭り実行委員会 \n後援：八王子市 \n※雨天中止・順延日無し\n※当日は混雑が予想されます。公共交通機関をご利用ください。 \n \n\n \n詳しくはこちら\n\n \n〈情報提供者〉 \n \n\n \nどなすけ さん \n\n\n  \nイベント情報トップに戻る
URL:https://yugi.hachiojimarche.tokyo/event/%e7%ac%ac26%e5%9b%9e-%e9%95%b7%e6%b1%a0%e3%80%8c%e3%81%bd%e3%82%93%e3%81%bd%e3%81%93%e7%a5%ad%e3%82%8a%e3%80%8d%ef%bd%9c%e9%95%b7%e6%b1%a0%e5%85%ac%e5%9c%92/
LOCATION:長池公園\, 別所2-58\, 八王子市\, 東京都\, 日本
CATEGORIES:エンターテイメント (Entertainment)
ATTACH;FMTTYPE=image/webp:https://yugi.hachiojimarche.tokyo/wp-content/uploads/2024/07/event_minamiosawa.webp
END:VEVENT
BEGIN:VEVENT
DTSTART;TZID=Asia/Tokyo:20240429T110000
DTEND;TZID=Asia/Tokyo:20240429T160000
DTSTAMP:20260422T232937
CREATED:20240404T234842Z
LAST-MODIFIED:20250429T004213Z
UID:38864-1714388400-1714406400@yugi.hachiojimarche.tokyo
SUMMARY:CRAFT PARKとなりの職人 vol.5｜長池公園のイベント（終了）
DESCRIPTION:なかなか見つけられないあなたの「好き」と「作る」職人さんをつなぐプロジェクト。 \nこのプロジェクトは、八王子市多摩ニュータウンにある長池公園で開催されます。職人さんとの「Face to face」（＝会ってふれあう）を通して、ユーザーさんと職人さんのコミュニケーションを図り、様々な可能性を広げる場となるイベントです。 \n\n\n\n開催日\n2024年4月28日(日)～29日(月)\n\n\n時　間\n11:00-16:00\n\n\n会　場\n長池公園（芝生広場）\n\n\n\n共催：八王子市の畳店「畳屋 よこうち」、ひとまちみどり由木、NPOフュージョン長池の共催\n協力：サーカス就労継続支援B型事業所 \n※屋外のため雨天中止 \n  \n詳しくはこちら\n\n  \nイベント情報トップに戻る
URL:https://yugi.hachiojimarche.tokyo/event/craft-park%e3%81%a8%e3%81%aa%e3%82%8a%e3%81%ae%e8%81%b7%e4%ba%ba-vol-5%ef%bd%9c%e9%95%b7%e6%b1%a0%e5%85%ac%e5%9c%92%e3%81%ae%e3%82%a4%e3%83%99%e3%83%b3%e3%83%88-2/
LOCATION:長池公園\, 別所2-58\, 八王子市\, 東京都\, 日本
CATEGORIES:エンターテイメント (Entertainment)
ATTACH;FMTTYPE=image/webp:https://yugi.hachiojimarche.tokyo/wp-content/uploads/2024/03/events320-1.webp
END:VEVENT
BEGIN:VEVENT
DTSTART;TZID=Asia/Tokyo:20240428T110000
DTEND;TZID=Asia/Tokyo:20240428T160000
DTSTAMP:20260422T232937
CREATED:20240404T234756Z
LAST-MODIFIED:20250429T004203Z
UID:38861-1714302000-1714320000@yugi.hachiojimarche.tokyo
SUMMARY:CRAFT PARKとなりの職人 vol.5｜長池公園のイベント（終了）
DESCRIPTION:なかなか見つけられないあなたの「好き」と「作る」職人さんをつなぐプロジェクト。 \nこのプロジェクトは、八王子市多摩ニュータウンにある長池公園で開催されます。職人さんとの「Face to face」（＝会ってふれあう）を通して、ユーザーさんと職人さんのコミュニケーションを図り、様々な可能性を広げる場となるイベントです。 \n\n\n\n開催日\n2024年4月28日(日)～29日(月)\n\n\n時　間\n11:00-16:00\n\n\n会　場\n長池公園（芝生広場）\n\n\n\n共催：八王子市の畳店「畳屋 よこうち」、ひとまちみどり由木、NPOフュージョン長池の共催\n協力：サーカス就労継続支援B型事業所 \n※屋外のため雨天中止 \n  \n詳しくはこちら\n\n  \nイベント情報トップに戻る
URL:https://yugi.hachiojimarche.tokyo/event/craft-park%e3%81%a8%e3%81%aa%e3%82%8a%e3%81%ae%e8%81%b7%e4%ba%ba-vol-5%ef%bd%9c%e9%95%b7%e6%b1%a0%e5%85%ac%e5%9c%92%e3%81%ae%e3%82%a4%e3%83%99%e3%83%b3%e3%83%88/
LOCATION:長池公園\, 別所2-58\, 八王子市\, 東京都\, 日本
CATEGORIES:エンターテイメント (Entertainment)
ATTACH;FMTTYPE=image/webp:https://yugi.hachiojimarche.tokyo/wp-content/uploads/2024/03/events320-1.webp
END:VEVENT
BEGIN:VEVENT
DTSTART;TZID=Asia/Tokyo:20240427T100000
DTEND;TZID=Asia/Tokyo:20240427T153000
DTSTAMP:20260422T232937
CREATED:20240417T141057Z
LAST-MODIFIED:20250429T004133Z
UID:39023-1714212000-1714231800@yugi.hachiojimarche.tokyo
SUMMARY:第４回 おさんぽマルシェ｜長池公園のイベント（終了）
DESCRIPTION:「おさんぽマルシェ」は、ママ達4人が親子で楽しめるイベントを考え、日野・八王子・町田を中心に企画し開催するマルシェです。 \nこのプロジェクトは、八王子市多摩ニュータウンにある長池公園で開催されます。キッチンカー、ワークショップ⁡、ハンドメイド⁡、わんちゃんブースなどが出展。おさんぽがてら気軽に遊びに行ってみてはいあｋがでしょうか。 \n\n\n\n開催日\n2024年4月27日(土)\n\n\n時　間\n10:00-15:30\n\n\n会　場\n長池公園（芝生広場）\n\n\n\n基本情報が少ないため、詳しくは開催者にお問い合わせください。 \n  \n詳しくはこちら\n\n  \nイベント情報トップに戻る
URL:https://yugi.hachiojimarche.tokyo/event/%e7%ac%ac%ef%bc%94%e5%9b%9e-%e3%81%8a%e3%81%95%e3%82%93%e3%81%bd%e3%83%9e%e3%83%ab%e3%82%b7%e3%82%a7%ef%bd%9c%e9%95%b7%e6%b1%a0%e5%85%ac%e5%9c%92%e3%81%ae%e3%82%a4%e3%83%99%e3%83%b3%e3%83%88/
LOCATION:長池公園\, 別所2-58\, 八王子市\, 東京都\, 日本
CATEGORIES:エンターテイメント (Entertainment),食・グルメ (Food & Gourmet)
ATTACH;FMTTYPE=image/webp:https://yugi.hachiojimarche.tokyo/wp-content/uploads/2024/03/events320-1.webp
END:VEVENT
END:VCALENDAR