BEGIN:VCALENDAR
VERSION:2.0
PRODID:-//八王子 由木マルシェ - ECPv6.15.20//NONSGML v1.0//EN
CALSCALE:GREGORIAN
METHOD:PUBLISH
X-WR-CALNAME:八王子 由木マルシェ
X-ORIGINAL-URL:https://yugi.hachiojimarche.tokyo
X-WR-CALDESC:八王子 由木マルシェ のイベント
REFRESH-INTERVAL;VALUE=DURATION:PT1H
X-Robots-Tag:noindex
X-PUBLISHED-TTL:PT1H
BEGIN:VTIMEZONE
TZID:Asia/Tokyo
BEGIN:STANDARD
TZOFFSETFROM:+0900
TZOFFSETTO:+0900
TZNAME:JST
DTSTART:20230101T000000
END:STANDARD
END:VTIMEZONE
BEGIN:VEVENT
DTSTART;TZID=Asia/Tokyo:20250412T100000
DTEND;TZID=Asia/Tokyo:20250412T150000
DTSTAMP:20260422T234749
CREATED:20250404T232834Z
LAST-MODIFIED:20250429T004940Z
UID:44172-1744452000-1744470000@yugi.hachiojimarche.tokyo
SUMMARY:第5回 おさんぽマルシェ＠八王子市長池公園⁡｜長池公園のイベント（終了）
DESCRIPTION:「おさんぽマルシェ」1年ぶりの開催\n\n\n約1年ぶりに、「おさんぽマルシェ」が八王子市長池公園にて開催されます。今回は、こだわりの雑貨やグルメなど、素敵な出店者が多数参加予定。親子連れやペット連れの方も歓迎の、気軽に立ち寄れるマルシェです。 \nお天気の良い春の日、おさんぽがてらふらっと立ち寄って、おいしいもの・かわいいものを探してみてはいかがでしょうか？ \n主催：おさんぽマルシェ \n\n\n\n\n\n    \n    \n     \n\n\n    \n        \n    \n\n\n\n\n\n\n\n\n\n＼ 長池公園の情報はこちら ／ \n\n\n\n\nひとまりみどり由木HP ＞\n\n\n\n\n\n\n\n〈情報提供者〉 \n \n\n \nななし さん \n\n \nイベント情報トップに戻る\n \n 
URL:https://yugi.hachiojimarche.tokyo/event/nagaikeparkevent20250412/
CATEGORIES:エンターテイメント (Entertainment),食・グルメ (Food & Gourmet)
ATTACH;FMTTYPE=image/webp:https://yugi.hachiojimarche.tokyo/wp-content/uploads/2025/04/eyecatch_nagaikepark320.webp
END:VEVENT
BEGIN:VEVENT
DTSTART;TZID=Asia/Tokyo:20241110T100000
DTEND;TZID=Asia/Tokyo:20241110T120000
DTSTAMP:20260422T234749
CREATED:20241030T105405Z
LAST-MODIFIED:20250429T004552Z
UID:42090-1731232800-1731240000@yugi.hachiojimarche.tokyo
SUMMARY:長池公園の自然を感じる陶芸体験（小・中学生向け ）| 長池公園のイベント（終了）
DESCRIPTION:満員になりました \n\n\n長池公園（八王子市別所）で開催されるイベント。 \n女子美術大学 工芸専攻 陶芸分野の学生が開催するワークショップ。 \n主催：女子美術大学 \n共催：八王子市都市公園指定管理者ひとまちみどり由木 \n \n\n  \n詳しくはこちら\n \n  \n〈情報提供者〉 \n \n\n \nみや さん \n\n \n  \nイベント情報トップに戻る\n \n 
URL:https://yugi.hachiojimarche.tokyo/event/%e9%95%b7%e6%b1%a0%e5%85%ac%e5%9c%92%e3%81%ae%e8%87%aa%e7%84%b6%e3%82%92%e6%84%9f%e3%81%98%e3%82%8b%e9%99%b6%e8%8a%b8%e4%bd%93%e9%a8%93%ef%bc%88%e5%b0%8f%e3%83%bb%e4%b8%ad%e5%ad%a6%e7%94%9f%e5%90%91/
LOCATION:長池公園\, 別所2-58\, 八王子市\, 東京都\, 日本
CATEGORIES:教育・学習 (Education & Learning),文化・芸術 (Culture & Arts)
ATTACH;FMTTYPE=image/webp:https://yugi.hachiojimarche.tokyo/wp-content/uploads/2024/07/event_minamiosawa.webp
END:VEVENT
END:VCALENDAR