BEGIN:VCALENDAR
VERSION:2.0
PRODID:-//八王子 由木マルシェ - ECPv6.15.20//NONSGML v1.0//EN
CALSCALE:GREGORIAN
METHOD:PUBLISH
X-WR-CALNAME:八王子 由木マルシェ
X-ORIGINAL-URL:https://yugi.hachiojimarche.tokyo
X-WR-CALDESC:八王子 由木マルシェ のイベント
REFRESH-INTERVAL;VALUE=DURATION:PT1H
X-Robots-Tag:noindex
X-PUBLISHED-TTL:PT1H
BEGIN:VTIMEZONE
TZID:Asia/Tokyo
BEGIN:STANDARD
TZOFFSETFROM:+0900
TZOFFSETTO:+0900
TZNAME:JST
DTSTART:20230101T000000
END:STANDARD
END:VTIMEZONE
BEGIN:VEVENT
DTSTART;TZID=Asia/Tokyo:20250416T100000
DTEND;TZID=Asia/Tokyo:20250422T190000
DTSTAMP:20260421T165337
CREATED:20250420T011956Z
LAST-MODIFIED:20250429T004944Z
UID:44287-1744797600-1745348400@yugi.hachiojimarche.tokyo
SUMMARY:南大沢古本まつり 2025年4月16日～22日（終了）
DESCRIPTION:本好きにはたまらない！京王相模原線南大沢駅前の特設テントで「南大沢古本まつり」が開催されます。 \n\n\n\n「3冊100円」コーナーや絵本など各ジャンルのコーナーなどがあり、掘り出し物に巡り会える絶好の機会です。 \n\n\n\n＼ 詳しい情報はこちら ／ \n\n\n\n\n南大沢古本まつり まとめ ＞
URL:https://yugi.hachiojimarche.tokyo/event/%e5%8d%97%e5%a4%a7%e6%b2%a2%e5%8f%a4%e6%9c%ac%e3%81%be%e3%81%a4%e3%82%8a-2025%e5%b9%b44%e6%9c%8816%e6%97%a5%ef%bd%9e22%e6%97%a5/
LOCATION:南大沢駅前\, 南大沢2-1-6\, 八王子市\, 東京都\, 1920364\, 日本
CATEGORIES:エンターテイメント (Entertainment),教育・学習 (Education & Learning),文化・芸術 (Culture & Arts)
ATTACH;FMTTYPE=image/webp:https://yugi.hachiojimarche.tokyo/wp-content/uploads/2024/07/event_minamiosawa.webp
ORGANIZER;CN="%E5%85%AB%E7%8E%8B%E5%AD%90%E5%8F%A4%E6%9C%AC%E3%81%BE%E3%81%A4%E3%82%8A%E5%AE%9F%E8%A1%8C%E5%A7%94%E5%93%A1%E4%BC%9A":MAILTO:gensen31@dance.ocn.ne.jp
END:VEVENT
BEGIN:VEVENT
DTSTART;TZID=Asia/Tokyo:20241124T110000
DTEND;TZID=Asia/Tokyo:20241124T160000
DTSTAMP:20260421T165337
CREATED:20241124T023402Z
LAST-MODIFIED:20250429T004627Z
UID:42422-1732446000-1732464000@yugi.hachiojimarche.tokyo
SUMMARY:CRAFT PARKとなりの職人 vol.6｜長池公園のイベント（終了）
DESCRIPTION:なかなか見つけられないあなたの「好き」と「作る」職人さんをつなぐプロジェクト。 \nこの「CRAFT PARKとなりの職人」は、八王子市多摩ニュータウンにある長池公園（八王子市別所）で開催するイベントです。職人さんとの「Face to face」（＝会ってふれあう）を通して、ユーザーさんと職人さんのコミュニケーションを図り、様々な可能性を広げる場となるイベントです。 \n\n\n\n\n\n\n    \n    \n    レスポンシブ画像\n     \n\n\n    \n        \n    \n\n\n\n\n\n\n\n開催日\n2024年11月23日(土)～24日(日)\n\n\n時　間\n11:00-16:00\n\n\n会　場\n長池公園（芝生広場）\n\n\n\n共催：畳屋 よこうち、八王子市都市公園指定管理者ひとまちみどり由木、NPOフュージョン長池協力：サーカス就労継続支援B型事業所、ボランティア・コネクション、ご有志の皆様後援：八王子市教育委員会 \n※屋外のため雨天中止 \n詳しくはこちら\n \nイベント情報トップに戻る
URL:https://yugi.hachiojimarche.tokyo/event/craft-park%e3%81%a8%e3%81%aa%e3%82%8a%e3%81%ae%e8%81%b7%e4%ba%ba-vol-6%ef%bd%9c%e9%95%b7%e6%b1%a0%e5%85%ac%e5%9c%92%e3%81%ae%e3%82%a4%e3%83%99%e3%83%b3%e3%83%88-2/
LOCATION:長池公園\, 別所2-58\, 八王子市\, 東京都\, 日本
CATEGORIES:エンターテイメント (Entertainment)
ATTACH;FMTTYPE=image/webp:https://yugi.hachiojimarche.tokyo/wp-content/uploads/2024/03/events320-1.webp
END:VEVENT
BEGIN:VEVENT
DTSTART;TZID=Asia/Tokyo:20241123T110000
DTEND;TZID=Asia/Tokyo:20241123T160000
DTSTAMP:20260421T165337
CREATED:20241104T075506Z
LAST-MODIFIED:20250429T004618Z
UID:42153-1732359600-1732377600@yugi.hachiojimarche.tokyo
SUMMARY:CRAFT PARKとなりの職人 vol.6｜長池公園のイベント（終了）
DESCRIPTION:なかなか見つけられないあなたの「好き」と「作る」職人さんをつなぐプロジェクト。 \nこの「CRAFT PARKとなりの職人」は、八王子市多摩ニュータウンにある長池公園（八王子市別所）で開催するイベントです。職人さんとの「Face to face」（＝会ってふれあう）を通して、ユーザーさんと職人さんのコミュニケーションを図り、様々な可能性を広げる場となるイベントです。 \n\n\n\n\n\n\n    \n    \n    レスポンシブ画像\n     \n\n\n    \n        \n    \n\n\n\n\n  \n\n\n\n開催日\n2024年11月23日(土)～24日(日)\n\n\n時　間\n11:00-16:00\n\n\n会　場\n長池公園（芝生広場）\n\n\n\n共催：畳屋 よこうち、八王子市都市公園指定管理者ひとまちみどり由木、NPOフュージョン長池協力：サーカス就労継続支援B型事業所、ボランティア・コネクション、ご有志の皆様後援：八王子市教育委員会 \n※屋外のため雨天中止 \n  \n詳しくはこちら\n \n  \nイベント情報トップに戻る
URL:https://yugi.hachiojimarche.tokyo/event/craft-park%e3%81%a8%e3%81%aa%e3%82%8a%e3%81%ae%e8%81%b7%e4%ba%ba-vol-6%ef%bd%9c%e9%95%b7%e6%b1%a0%e5%85%ac%e5%9c%92%e3%81%ae%e3%82%a4%e3%83%99%e3%83%b3%e3%83%88/
LOCATION:長池公園\, 別所2-58\, 八王子市\, 東京都\, 日本
CATEGORIES:エンターテイメント (Entertainment)
ATTACH;FMTTYPE=image/webp:https://yugi.hachiojimarche.tokyo/wp-content/uploads/2024/03/events320-1.webp
END:VEVENT
END:VCALENDAR