BEGIN:VCALENDAR
VERSION:2.0
PRODID:-//八王子 由木マルシェ - ECPv6.15.20//NONSGML v1.0//EN
CALSCALE:GREGORIAN
METHOD:PUBLISH
X-WR-CALNAME:八王子 由木マルシェ
X-ORIGINAL-URL:https://yugi.hachiojimarche.tokyo
X-WR-CALDESC:八王子 由木マルシェ のイベント
REFRESH-INTERVAL;VALUE=DURATION:PT1H
X-Robots-Tag:noindex
X-PUBLISHED-TTL:PT1H
BEGIN:VTIMEZONE
TZID:Asia/Tokyo
BEGIN:STANDARD
TZOFFSETFROM:+0900
TZOFFSETTO:+0900
TZNAME:JST
DTSTART:20240101T000000
END:STANDARD
END:VTIMEZONE
BEGIN:VEVENT
DTSTART;TZID=Asia/Tokyo:20250830T180000
DTEND;TZID=Asia/Tokyo:20250831T113000
DTSTAMP:20260423T192721
CREATED:20250824T035515Z
LAST-MODIFIED:20250824T053914Z
UID:45194-1756576800-1756639800@yugi.hachiojimarche.tokyo
SUMMARY:八王子 東中野熊野神社「例大祭」（8/30・31）
DESCRIPTION:八王子市東中野、野猿街道沿いに位置する熊野神社で、伝統行事「東中野熊野神社例大祭」が開催されます。 \n\n\n\n開催日\n2025年8月31日(土)、31日（日）\n\n\n時間\n31日：18:00～20:00頃まで30日：10:00～11:30頃まで\n\n\n会場\n東中野熊野神社境内\n\n\n\n主催：熊野神社　当番　天野上組 \n※天候等により各プログラムには変更があります※当日は混雑が予想されます。公共交通機関をご利用ください \n\n  関連記事 \n\n【8/30(土)・31(日) 開催】熊野神社例大祭 （八王子・東中野）子ども神輿・由木音頭など（終了）｜お祭り･縁日･家族向け\n続きを読む\n  \n\n\n  \nイベント情報トップに戻る
URL:https://yugi.hachiojimarche.tokyo/event/higashinakano_kumanojinjyareidaisai/
CATEGORIES:文化・芸術 (Culture & Arts)
ATTACH;FMTTYPE=image/webp:https://yugi.hachiojimarche.tokyo/wp-content/uploads/2025/08/matsuri.webp
END:VEVENT
END:VCALENDAR