BEGIN:VCALENDAR
VERSION:2.0
PRODID:-//八王子 由木マルシェ - ECPv6.15.20//NONSGML v1.0//EN
CALSCALE:GREGORIAN
METHOD:PUBLISH
X-WR-CALNAME:八王子 由木マルシェ
X-ORIGINAL-URL:https://yugi.hachiojimarche.tokyo
X-WR-CALDESC:八王子 由木マルシェ のイベント
REFRESH-INTERVAL;VALUE=DURATION:PT1H
X-Robots-Tag:noindex
X-PUBLISHED-TTL:PT1H
BEGIN:VTIMEZONE
TZID:Asia/Tokyo
BEGIN:STANDARD
TZOFFSETFROM:+0900
TZOFFSETTO:+0900
TZNAME:JST
DTSTART:20240101T000000
END:STANDARD
END:VTIMEZONE
BEGIN:VEVENT
DTSTART;TZID=Asia/Tokyo:20250830T180000
DTEND;TZID=Asia/Tokyo:20250831T113000
DTSTAMP:20260423T193314
CREATED:20250824T035515Z
LAST-MODIFIED:20250824T053914Z
UID:45194-1756576800-1756639800@yugi.hachiojimarche.tokyo
SUMMARY:八王子 東中野熊野神社「例大祭」（8/30・31）
DESCRIPTION:八王子市東中野、野猿街道沿いに位置する熊野神社で、伝統行事「東中野熊野神社例大祭」が開催されます。 \n\n\n\n開催日\n2025年8月31日(土)、31日（日）\n\n\n時間\n31日：18:00～20:00頃まで30日：10:00～11:30頃まで\n\n\n会場\n東中野熊野神社境内\n\n\n\n主催：熊野神社　当番　天野上組 \n※天候等により各プログラムには変更があります※当日は混雑が予想されます。公共交通機関をご利用ください \n\n  関連記事 \n\n【8/30(土)・31(日) 開催】熊野神社例大祭 （八王子・東中野）子ども神輿・由木音頭など（終了）｜お祭り･縁日･家族向け\n続きを読む\n  \n\n\n  \nイベント情報トップに戻る
URL:https://yugi.hachiojimarche.tokyo/event/higashinakano_kumanojinjyareidaisai/
CATEGORIES:文化・芸術 (Culture & Arts)
ATTACH;FMTTYPE=image/webp:https://yugi.hachiojimarche.tokyo/wp-content/uploads/2025/08/matsuri.webp
END:VEVENT
BEGIN:VEVENT
DTSTART;TZID=Asia/Tokyo:20250817T130000
DTEND;TZID=Asia/Tokyo:20250817T193000
DTSTAMP:20260423T193314
CREATED:20250701T233427Z
LAST-MODIFIED:20250702T034930Z
UID:44878-1755435600-1755459000@yugi.hachiojimarche.tokyo
SUMMARY:南大沢八幡神社 夏まつり「例大祭」8月17日 | 南大沢町会
DESCRIPTION:南大沢警察署の裏側の道沿いにある南大沢八幡神社で開催される伝統行事です。 \n\n\n\n開催日\n2025年8月17日(日)\n\n\n時間\n13:00～19:30頃まで\n\n\n会場\n南大沢八幡神社境内\n\n\n\n主催：南大沢八幡神社総代一同協力：南大沢八幡神社夏まつり実行委員会、南大沢町会、南大澤囃子連、南大沢青年部、交通安全協会南大沢支部、南大沢柚子の実会、南大沢子ども会OB、大和ハウス工業南多摩営業所、社会福祉法人草むら、八王子市青少年対策南大沢地区委員 \n※天候等により各プログラムには変更があります※当日は混雑が予想されます。公共交通機関をご利用ください \n\n\n\n\n\n\n\n\n\n\n詳しくはこちら\n \n  \nイベント情報トップに戻る
URL:https://yugi.hachiojimarche.tokyo/event/minamiosawa_reitaisai2025/
LOCATION:南大沢八幡神社\, 南大沢1-262\, 八王子市\, 東京都\, 192-0364\, 日本
CATEGORIES:エンターテイメント (Entertainment),文化・芸術 (Culture & Arts)
ATTACH;FMTTYPE=image/webp:https://yugi.hachiojimarche.tokyo/wp-content/uploads/2024/07/event_minamiosawa.webp
END:VEVENT
BEGIN:VEVENT
DTSTART;TZID=Asia/Tokyo:20250801T120000
DTEND;TZID=Asia/Tokyo:20250803T210000
DTSTAMP:20260423T193314
CREATED:20250701T235753Z
LAST-MODIFIED:20250701T235754Z
UID:44886-1754049600-1754254800@yugi.hachiojimarche.tokyo
SUMMARY:令和7年 八王子まつり8月1日～3日
DESCRIPTION:八王子市の夏の恒例行事「八王子まつり」が今年も開催！ \n  \n\n\n\n開催日\n2025年8月1日(金)～3日(日)\n\n\n目　的\n1，伝統ある地域文化の創造と継承2，市民相互の連帯と融和3，観光都市八王子のイメージの高揚\n\n\n主会場\n八王子駅北側、甲州街道の駅入口交差点から追分町交差点までの約1.8km\n\n\n\n主催：八王子まつり実行委員会共催：八王子商工会議所、公益社団法人八王子観光コンベンション協会 \n※当日は混雑が予想されます。公共交通機関をご利用ください。 \n\n\n\n\n\n\n画像元：八王子まつり公式HP \n\n\n\n詳しくはこちら\n \nイベント情報トップに戻る
URL:https://yugi.hachiojimarche.tokyo/event/%e4%bb%a4%e5%92%8c7%e5%b9%b4-%e5%85%ab%e7%8e%8b%e5%ad%90%e3%81%be%e3%81%a4%e3%82%8a8%e6%9c%881%e6%97%a5%ef%bd%9e3%e6%97%a5/
LOCATION:八王子駅北口\, 横山町24\, 八王子市\, 東京都\, 1920081\, 日本
CATEGORIES:文化・芸術 (Culture & Arts),食・グルメ (Food & Gourmet)
ATTACH;FMTTYPE=image/webp:https://yugi.hachiojimarche.tokyo/wp-content/uploads/2024/07/event_802matsuri.webp
END:VEVENT
END:VCALENDAR